BEGIN:VCALENDAR
VERSION:2.0
PRODID:-//Early Learning Coalition of the Big Bend - ECPv6.13.2.1//NONSGML v1.0//EN
CALSCALE:GREGORIAN
METHOD:PUBLISH
X-ORIGINAL-URL:https://elcbigbend.org
X-WR-CALDESC:Events for Early Learning Coalition of the Big Bend
REFRESH-INTERVAL;VALUE=DURATION:PT1H
X-Robots-Tag:noindex
X-PUBLISHED-TTL:PT1H
BEGIN:VTIMEZONE
TZID:America/New_York
BEGIN:DAYLIGHT
TZOFFSETFROM:-0500
TZOFFSETTO:-0400
TZNAME:EDT
DTSTART:20250309T070000
END:DAYLIGHT
BEGIN:STANDARD
TZOFFSETFROM:-0400
TZOFFSETTO:-0500
TZNAME:EST
DTSTART:20251102T060000
END:STANDARD
END:VTIMEZONE
BEGIN:VEVENT
DTSTART;TZID=America/New_York:20251204T100000
DTEND;TZID=America/New_York:20251204T110000
DTSTAMP:20260423T163205
CREATED:20251204T144712Z
LAST-MODIFIED:20251204T144712Z
UID:4156-1764842400-1764846000@elcbigbend.org
SUMMARY:Advocacy and Development Committee Meeting
DESCRIPTION:For information on how to view this meeting via zoom\, please email Rebecca Gonzalez at governance@elcbigbend.org to receive an invitation link.
URL:https://elcbigbend.org/event/advocacy-and-development-committee-meeting-4/
LOCATION:Zoom Webinar
ORGANIZER;CN="Rebecca Gonzalez":MAILTO:RGonzalez@elcbigbend.org
END:VEVENT
BEGIN:VEVENT
DTSTART;TZID=America/New_York:20251204T160000
DTEND;TZID=America/New_York:20251204T173000
DTSTAMP:20260423T163205
CREATED:20251204T204603Z
LAST-MODIFIED:20251204T204603Z
UID:4159-1764864000-1764869400@elcbigbend.org
SUMMARY:New Board Member Orientation
DESCRIPTION:For information on how to view this meeting via zoom\, please email Rebecca Gonzalez at governance@elcbigbend.org to receive an invitation link.
URL:https://elcbigbend.org/event/new-board-member-orientation-3/
LOCATION:Zoom Webinar
ORGANIZER;CN="Rebecca Gonzalez":MAILTO:RGonzalez@elcbigbend.org
END:VEVENT
BEGIN:VEVENT
DTSTART;TZID=America/New_York:20251205T120000
DTEND;TZID=America/New_York:20251205T143000
DTSTAMP:20260423T163205
CREATED:20251205T133722Z
LAST-MODIFIED:20251205T133722Z
UID:4162-1764936000-1764945000@elcbigbend.org
SUMMARY:Board and Staff Holiday Social
DESCRIPTION:This event is being held at the Leon Service Center:  2639 N Monroe St\, Building C-300\, Tallahassee FL\, 32303.
URL:https://elcbigbend.org/event/board-and-staff-holiday-social/
ORGANIZER;CN="Rebecca Gonzalez":MAILTO:RGonzalez@elcbigbend.org
END:VEVENT
END:VCALENDAR