BEGIN:VCALENDAR
VERSION:2.0
PRODID:-//Early Learning Coalition of the Big Bend - ECPv6.13.2.1//NONSGML v1.0//EN
CALSCALE:GREGORIAN
METHOD:PUBLISH
X-WR-CALNAME:Early Learning Coalition of the Big Bend
X-ORIGINAL-URL:https://elcbigbend.org
X-WR-CALDESC:Events for Early Learning Coalition of the Big Bend
REFRESH-INTERVAL;VALUE=DURATION:PT1H
X-Robots-Tag:noindex
X-PUBLISHED-TTL:PT1H
BEGIN:VTIMEZONE
TZID:America/New_York
BEGIN:DAYLIGHT
TZOFFSETFROM:-0500
TZOFFSETTO:-0400
TZNAME:EDT
DTSTART:20230312T070000
END:DAYLIGHT
BEGIN:STANDARD
TZOFFSETFROM:-0400
TZOFFSETTO:-0500
TZNAME:EST
DTSTART:20231105T060000
END:STANDARD
BEGIN:DAYLIGHT
TZOFFSETFROM:-0500
TZOFFSETTO:-0400
TZNAME:EDT
DTSTART:20240310T070000
END:DAYLIGHT
BEGIN:STANDARD
TZOFFSETFROM:-0400
TZOFFSETTO:-0500
TZNAME:EST
DTSTART:20241103T060000
END:STANDARD
END:VTIMEZONE
BEGIN:VEVENT
DTSTART;TZID=America/New_York:20240530T103000
DTEND;TZID=America/New_York:20240530T113000
DTSTAMP:20260424T050614
CREATED:20240530T131206Z
LAST-MODIFIED:20240530T151229Z
UID:3018-1717065000-1717068600@elcbigbend.org
SUMMARY:ELC Executive Committee Monthly Meeting
DESCRIPTION:For information on how to view this meeting via zoom\, please email Rebecca Gonzalez at governance@elcbigbend.org to receive an invitation link.
URL:https://elcbigbend.org/event/elc-executive-committee-monthly-meeting-2/
LOCATION:Zoom Webinar
CATEGORIES:Executive Committee
ORGANIZER;CN="Rebecca Gonzalez":MAILTO:RGonzalez@elcbigbend.org
END:VEVENT
BEGIN:VEVENT
DTSTART;TZID=America/New_York:20240502T113000
DTEND;TZID=America/New_York:20240502T130000
DTSTAMP:20260424T050614
CREATED:20240409T144955Z
LAST-MODIFIED:20240409T144955Z
UID:2817-1714649400-1714654800@elcbigbend.org
SUMMARY:Board of Directors Meeting
DESCRIPTION:For information on how to view this meeting via zoom\, please email Rebecca Gonzalez at governance@elcbigbend.org to receive an invitation link.
URL:https://elcbigbend.org/event/board-of-directors-meeting-5/
LOCATION:Zoom Webinar
CATEGORIES:Board of Directors
ORGANIZER;CN="Rebecca Gonzalez":MAILTO:RGonzalez@elcbigbend.org
END:VEVENT
BEGIN:VEVENT
DTSTART;TZID=America/New_York:20240418T100000
DTEND;TZID=America/New_York:20240418T110000
DTSTAMP:20260424T050614
CREATED:20240409T144812Z
LAST-MODIFIED:20240409T144812Z
UID:2813-1713434400-1713438000@elcbigbend.org
SUMMARY:Executive Committee Meeting
DESCRIPTION:For information on how to view this meeting via zoom\, please email Rebecca Gonzalez at governance@elcbigbend.org to receive an invitation link.
URL:https://elcbigbend.org/event/executive-committee-meeting-16/
LOCATION:Zoom Webinar
CATEGORIES:Executive Committee
ORGANIZER;CN="Rebecca Gonzalez":MAILTO:RGonzalez@elcbigbend.org
END:VEVENT
BEGIN:VEVENT
DTSTART;TZID=America/New_York:20240411T140000
DTEND;TZID=America/New_York:20240411T150000
DTSTAMP:20260424T050614
CREATED:20240409T144623Z
LAST-MODIFIED:20240409T144623Z
UID:2811-1712844000-1712847600@elcbigbend.org
SUMMARY:Finance Committee Meeting
DESCRIPTION:For information on how to view this meeting via zoom\, please email Rebecca Gonzalez at governance@elcbigbend.org to receive an invitation link.
URL:https://elcbigbend.org/event/finance-committee-meeting-11/
LOCATION:Zoom Webinar
CATEGORIES:Finance Committee
ORGANIZER;CN="Rebecca Gonzalez":MAILTO:RGonzalez@elcbigbend.org
END:VEVENT
BEGIN:VEVENT
DTSTART;TZID=America/New_York:20240410T120000
DTEND;TZID=America/New_York:20240410T130000
DTSTAMP:20260424T050614
CREATED:20240409T144900Z
LAST-MODIFIED:20240409T144900Z
UID:2815-1712750400-1712754000@elcbigbend.org
SUMMARY:Executive Committee Meeting
DESCRIPTION:For information on how to view this meeting via zoom\, please email Rebecca Gonzalez at governance@elcbigbend.org to receive an invitation link.
URL:https://elcbigbend.org/event/executive-committee-meeting-17/
LOCATION:Zoom Webinar
CATEGORIES:Executive Committee
ORGANIZER;CN="Rebecca Gonzalez":MAILTO:RGonzalez@elcbigbend.org
END:VEVENT
BEGIN:VEVENT
DTSTART;TZID=America/New_York:20240409T100000
DTEND;TZID=America/New_York:20240409T110000
DTSTAMP:20260424T050614
CREATED:20240408T140352Z
LAST-MODIFIED:20240409T143832Z
UID:2808-1712656800-1712660400@elcbigbend.org
SUMMARY:Program\, Policy\, and Strategy Committee Meeting
DESCRIPTION:For information on how to view this meeting via zoom\, please email Rebecca Gonzalez at governance@elcbigbend.org to receive an invitation link.
URL:https://elcbigbend.org/event/program-policy-and-strategy-committee-meeting-6/
LOCATION:Zoom Webinar
CATEGORIES:Program Policy Committee
ORGANIZER;CN="Rebecca Gonzalez":MAILTO:RGonzalez@elcbigbend.org
END:VEVENT
BEGIN:VEVENT
DTSTART;TZID=America/New_York:20240327T100000
DTEND;TZID=America/New_York:20240327T110000
DTSTAMP:20260424T050614
CREATED:20240326T121741Z
LAST-MODIFIED:20240327T132818Z
UID:2784-1711533600-1711537200@elcbigbend.org
SUMMARY:Executive Committee Monthly Meeting
DESCRIPTION:For information on how to view this meeting via zoom\, please email Rebecca Gonzalez at governance@elcbigbend.org to receive an invitation link.
URL:https://elcbigbend.org/event/executive-committee-monthly-meeting-12/
LOCATION:Zoom Webinar
CATEGORIES:Executive Committee
ORGANIZER;CN="Rebecca Gonzalez":MAILTO:RGonzalez@elcbigbend.org
END:VEVENT
BEGIN:VEVENT
DTSTART;TZID=America/New_York:20240327T090000
DTEND;TZID=America/New_York:20240327T100000
DTSTAMP:20260424T050614
CREATED:20240326T121700Z
LAST-MODIFIED:20240327T132905Z
UID:2782-1711530000-1711533600@elcbigbend.org
SUMMARY:Audit Committee Meeting
DESCRIPTION:For information on how to view this meeting via zoom\, please email Rebecca Gonzalez at governance@elcbigbend.org to receive an invitation link.
URL:https://elcbigbend.org/event/audit-committee-meeting-5/
LOCATION:Zoom Webinar
CATEGORIES:Audit Committee
ORGANIZER;CN="Rebecca Gonzalez":MAILTO:RGonzalez@elcbigbend.org
END:VEVENT
BEGIN:VEVENT
DTSTART;TZID=America/New_York:20240228T100000
DTEND;TZID=America/New_York:20240228T110000
DTSTAMP:20260424T050614
CREATED:20240228T143117Z
LAST-MODIFIED:20240228T143117Z
UID:2740-1709114400-1709118000@elcbigbend.org
SUMMARY:Ad Hoc Committee Meeting
DESCRIPTION:For information on how to view this meeting via zoom\, please email Rebecca Gonzalez at governance@elcbigbend.org to receive an invitation link.
URL:https://elcbigbend.org/event/ad-hoc-committee-meeting-12/
LOCATION:Zoom Webinar
CATEGORIES:Ad Hoc Committee
ORGANIZER;CN="Rebecca Gonzalez":MAILTO:RGonzalez@elcbigbend.org
END:VEVENT
BEGIN:VEVENT
DTSTART;TZID=America/New_York:20240201T110000
DTEND;TZID=America/New_York:20240201T130000
DTSTAMP:20260424T050614
CREATED:20240201T140300Z
LAST-MODIFIED:20240201T140300Z
UID:2694-1706785200-1706792400@elcbigbend.org
SUMMARY:ELC Board of Directors Meeting
DESCRIPTION:For information on how to view this meeting via zoom\, please email Rebecca Gonzalez at governance@elcbigbend.org to receive an invitation link.
URL:https://elcbigbend.org/event/elc-board-of-directors-meeting/
ORGANIZER;CN="Rebecca Gonzalez":MAILTO:RGonzalez@elcbigbend.org
END:VEVENT
BEGIN:VEVENT
DTSTART;TZID=America/New_York:20240125T180000
DTEND;TZID=America/New_York:20240125T210000
DTSTAMP:20260424T050614
CREATED:20230920T163649Z
LAST-MODIFIED:20230920T163649Z
UID:2398-1706205600-1706216400@elcbigbend.org
SUMMARY:Color Me Blue: A Kid's Art Auction Event
DESCRIPTION:ELC is dedicated to ensuring that every child in the Big Bend is prepared to succeed in school. With your generous support\, we can continue to support our youngest community members\, their caregivers\, and the early learning educators that equip them with the necessary skills to become future leaders.\n\nThis inspiring evening will feature a range of captivating experiences\, including:\n1. VIP Cocktail Reception: Network and mingle with influential community leaders\, philanthropists\, and business professionals during the exclusive pre-event reception.\n2. Live Entertainment: Enhance your experience with music provided by a local group.\n3. Art Auction: Participate in our exclusive silent auction\, featuring unique and beautiful artwork created by local Big Bend children.\n\nTicket pre-sales go live September 24\, 2023.
URL:https://elcbigbend.org/event/color-me-blue-a-kids-art-auction-event/
END:VEVENT
BEGIN:VEVENT
DTSTART;TZID=America/New_York:20240118T150000
DTEND;TZID=America/New_York:20240118T154500
DTSTAMP:20260424T050614
CREATED:20240118T163721Z
LAST-MODIFIED:20240118T163721Z
UID:2647-1705590000-1705592700@elcbigbend.org
SUMMARY:Color Me Blue Briefing
DESCRIPTION:Meeting scheduled to discuss event logistics\, run of show\, and volunteer expectations as assigned. Please contact Governance at governance@elcbigbend.org to be provided with a Zoom link.
URL:https://elcbigbend.org/event/color-me-blue-briefing-2/
LOCATION:Zoom Webinar
CATEGORIES:Ad Hoc Committee
ORGANIZER;CN="Rebecca Gonzalez":MAILTO:RGonzalez@elcbigbend.org
END:VEVENT
BEGIN:VEVENT
DTSTART;TZID=America/New_York:20240118T113000
DTEND;TZID=America/New_York:20240118T120000
DTSTAMP:20260424T050614
CREATED:20240118T163628Z
LAST-MODIFIED:20240118T163628Z
UID:2645-1705577400-1705579200@elcbigbend.org
SUMMARY:Color Me Blue Briefing
DESCRIPTION:Meeting scheduled to discuss event logistics\, run of show\, and volunteer expectations as assigned. Please contact Governance at governance@elcbigbend.org to be provided with a Zoom link.
URL:https://elcbigbend.org/event/color-me-blue-briefing/
LOCATION:Zoom Webinar
CATEGORIES:Ad Hoc Committee
ORGANIZER;CN="Rebecca Gonzalez":MAILTO:RGonzalez@elcbigbend.org
END:VEVENT
BEGIN:VEVENT
DTSTART;TZID=America/New_York:20240118T100000
DTEND;TZID=America/New_York:20240118T110000
DTSTAMP:20260424T050614
CREATED:20240116T165539Z
LAST-MODIFIED:20240116T165539Z
UID:2642-1705572000-1705575600@elcbigbend.org
SUMMARY:ELC Executive Committee Meeting
DESCRIPTION:For information on how to view this meeting via zoom\, please email Rebecca Gonzalez at governance@elcbigbend.org to receive an invitation link.
URL:https://elcbigbend.org/event/elc-executive-committee-meeting/
LOCATION:Zoom Webinar
CATEGORIES:Executive Committee
ORGANIZER;CN="Rebecca Gonzalez":MAILTO:RGonzalez@elcbigbend.org
END:VEVENT
BEGIN:VEVENT
DTSTART;TZID=America/New_York:20240117T100000
DTEND;TZID=America/New_York:20240117T110000
DTSTAMP:20260424T050614
CREATED:20240116T165450Z
LAST-MODIFIED:20240116T165450Z
UID:2640-1705485600-1705489200@elcbigbend.org
SUMMARY:Ad Hoc Committee Meeting
DESCRIPTION:For information on how to view this meeting via zoom\, please email Rebecca Gonzalez at governance@elcbigbend.org to receive an invitation link.
URL:https://elcbigbend.org/event/ad-hoc-committee-meeting-11/
LOCATION:Zoom Webinar
CATEGORIES:Ad Hoc Committee
ORGANIZER;CN="Rebecca Gonzalez":MAILTO:RGonzalez@elcbigbend.org
END:VEVENT
BEGIN:VEVENT
DTSTART;TZID=America/New_York:20240111T140000
DTEND;TZID=America/New_York:20240111T150000
DTSTAMP:20260424T050614
CREATED:20240111T150557Z
LAST-MODIFIED:20240111T150629Z
UID:2635-1704981600-1704985200@elcbigbend.org
SUMMARY:Finance Committee Meeting
DESCRIPTION:For information on how to view this meeting via zoom\, please email Rebecca Gonzalez at governance@elcbigbend.org to receive an invitation link.
URL:https://elcbigbend.org/event/elc-finance-committee-meeting/
LOCATION:Zoom Webinar
CATEGORIES:Finance Committee
ORGANIZER;CN="Rebecca Gonzalez":MAILTO:RGonzalez@elcbigbend.org
END:VEVENT
BEGIN:VEVENT
DTSTART;TZID=America/New_York:20240111T100000
DTEND;TZID=America/New_York:20240111T110000
DTSTAMP:20260424T050614
CREATED:20240110T150331Z
LAST-MODIFIED:20240111T150507Z
UID:2631-1704967200-1704970800@elcbigbend.org
SUMMARY:ELC Ad Hoc Committee Meeting
DESCRIPTION:For information on how to view this meeting via zoom\, please email Rebecca Gonzalez at governance@elcbigbend.org to receive an invitation link.
URL:https://elcbigbend.org/event/elc-ad-hoc-committee-meeting/
LOCATION:Zoom Webinar
ORGANIZER;CN="Rebecca Gonzalez":MAILTO:RGonzalez@elcbigbend.org
END:VEVENT
BEGIN:VEVENT
DTSTART;TZID=America/New_York:20240109T100000
DTEND;TZID=America/New_York:20240109T110000
DTSTAMP:20260424T050614
CREATED:20240104T164233Z
LAST-MODIFIED:20240104T164300Z
UID:2619-1704794400-1704798000@elcbigbend.org
SUMMARY:Program\, Policy\, and Strategy Committee Meeting
DESCRIPTION:For information on how to view this meeting via zoom\, please email Rebecca Gonzalez at governance@elcbigbend.org to receive an invitation link.
URL:https://elcbigbend.org/event/program-policy-and-strategy-committee-meeting-5/
LOCATION:Zoom Webinar
CATEGORIES:Program Policy Committee
ORGANIZER;CN="Rebecca Gonzalez":MAILTO:RGonzalez@elcbigbend.org
END:VEVENT
BEGIN:VEVENT
DTSTART;TZID=America/New_York:20240108T170000
DTEND;TZID=America/New_York:20240108T210000
DTSTAMP:20260424T050614
CREATED:20240108T204411Z
LAST-MODIFIED:20240108T204411Z
UID:2621-1704733200-1704747600@elcbigbend.org
SUMMARY:The Southern Group's 25th Anniversary
DESCRIPTION:
URL:https://elcbigbend.org/event/the-southern-groups-25th-anniversary/
END:VEVENT
BEGIN:VEVENT
DTSTART;TZID=America/New_York:20240105T110000
DTEND;TZID=America/New_York:20240105T120000
DTSTAMP:20260424T050614
CREATED:20240104T164119Z
LAST-MODIFIED:20240104T164119Z
UID:2617-1704452400-1704456000@elcbigbend.org
SUMMARY:Ad Hoc Committee Meeting
DESCRIPTION:For information on how to view this meeting via zoom\, please email Rebecca Gonzalez at governance@elcbigbend.org to receive an invitation link.
URL:https://elcbigbend.org/event/ad-hoc-committee-meeting-10/
LOCATION:Zoom Webinar
CATEGORIES:Ad Hoc Committee
ORGANIZER;CN="Rebecca Gonzalez":MAILTO:RGonzalez@elcbigbend.org
END:VEVENT
BEGIN:VEVENT
DTSTART;TZID=America/New_York:20231218T160000
DTEND;TZID=America/New_York:20231218T170000
DTSTAMP:20260424T050614
CREATED:20231218T211857Z
LAST-MODIFIED:20231218T211857Z
UID:2596-1702915200-1702918800@elcbigbend.org
SUMMARY:Fiscal Exit Meeting
DESCRIPTION:For information on how to view this meeting via zoom\, please email Rebecca Gonzalez at governance@elcbigbend.org to receive an invitation link.
URL:https://elcbigbend.org/event/fiscal-exit-meeting/
LOCATION:Zoom Webinar
ORGANIZER;CN="Rebecca Gonzalez":MAILTO:RGonzalez@elcbigbend.org
END:VEVENT
BEGIN:VEVENT
DTSTART;TZID=America/New_York:20231213T133000
DTEND;TZID=America/New_York:20231213T143000
DTSTAMP:20260424T050614
CREATED:20231212T125205Z
LAST-MODIFIED:20231213T125226Z
UID:2593-1702474200-1702477800@elcbigbend.org
SUMMARY:Ad Hoc Committee Meeting
DESCRIPTION:For information on how to view this meeting via zoom\, please email Rebecca Gonzalez at governance@elcbigbend.org to receive an invitation link.
URL:https://elcbigbend.org/event/ad-hoc-committee-meeting-9/
LOCATION:Zoom Webinar
CATEGORIES:Ad Hoc Committee
ORGANIZER;CN="Rebecca Gonzalez":MAILTO:RGonzalez@elcbigbend.org
END:VEVENT
BEGIN:VEVENT
DTSTART;TZID=America/New_York:20231204T133000
DTEND;TZID=America/New_York:20231204T143000
DTSTAMP:20260424T050614
CREATED:20231201T160013Z
LAST-MODIFIED:20231201T160013Z
UID:2560-1701696600-1701700200@elcbigbend.org
SUMMARY:Board Chair\, Treasurer\, and Leadership Team Meeting
DESCRIPTION:For information on how to view this meeting via zoom\, please email Rebecca Gonzalez at governance@elcbigbend.org to receive an invitation link.
URL:https://elcbigbend.org/event/board-chair-treasurer-and-leadership-team-meeting/
LOCATION:Zoom Webinar
ORGANIZER;CN="Rebecca Gonzalez":MAILTO:RGonzalez@elcbigbend.org
END:VEVENT
BEGIN:VEVENT
DTSTART;VALUE=DATE:20231129
DTEND;VALUE=DATE:20231216
DTSTAMP:20260424T050614
CREATED:20231019T175815Z
LAST-MODIFIED:20231019T175815Z
UID:2470-1701216000-1702684799@elcbigbend.org
SUMMARY:ELC 4717: Brain Breaks for Young Children – Supporting Good Health and Learning
DESCRIPTION:Brain breaks are a great classroom management tool to use regularly. Brain breaks are short\, 1 to 2 minutes\, activities that can give young children a break from classroom activities. Brain breaks give young children a chance to regroup\, relax\, stretch\, and allow the teacher to pull all the children together. Brain breaks can even happen in the middle of circle time. \n\nSelf-Paced – open 24/7\n10 In-Service Hours or 1 CEU\nTarget Audience: Toddler\, Pre-K 3\, Pre-K 4\, and VPK Teachers\nTo Register\, click here
URL:https://elcbigbend.org/event/elc-4717-brain-breaks-for-young-children-supporting-good-health-and-learning/
ORGANIZER;CN="Kathy Douglas":MAILTO:kdouglas@elcbigbend.org
END:VEVENT
BEGIN:VEVENT
DTSTART;TZID=America/New_York:20231109T123000
DTEND;TZID=America/New_York:20231109T133000
DTSTAMP:20260424T050614
CREATED:20231023T025951Z
LAST-MODIFIED:20231023T025951Z
UID:2472-1699533000-1699536600@elcbigbend.org
SUMMARY:Child Care Provider Webinar
DESCRIPTION:The Early Learning Coalition of the Big Bend Region\, Inc. (ELC) invites child care providers of the Big Bend to attend our quarterly webinar. This webinar will cover important information regarding VPK and School Readiness\, upcoming deadlines\, available resources and grants\, and more. \nRegister in advance for this meeting: https://us02web.zoom.us/meeting/register/tZ0pf-uqqDIsH9Ae3kxLx9TwaIQ2E4h6nNKa \nAfter registering\, you will receive a confirmation email containing information about joining the meeting.
URL:https://elcbigbend.org/event/child-care-provider-webinar/
LOCATION:Zoom Webinar
ORGANIZER;CN="Vincent Palmer%2C Provider Relations Manager":MAILTO:providerrelations@elcbigbend.org
END:VEVENT
BEGIN:VEVENT
DTSTART;TZID=America/New_York:20231108T100000
DTEND;TZID=America/New_York:20231108T110000
DTSTAMP:20260424T050614
CREATED:20231107T183059Z
LAST-MODIFIED:20231107T183059Z
UID:2506-1699437600-1699441200@elcbigbend.org
SUMMARY:Ad Hoc Committee Meeting
DESCRIPTION:For information on how to view this meeting via zoom\, please email Rebecca Gonzalez at governance@elcbigbend.org to receive an invitation link.
URL:https://elcbigbend.org/event/ad-hoc-committee-meeting-8/
LOCATION:Zoom Webinar
CATEGORIES:Ad Hoc Committee
ORGANIZER;CN="Rebecca Gonzalez":MAILTO:RGonzalez@elcbigbend.org
END:VEVENT
BEGIN:VEVENT
DTSTART;TZID=America/New_York:20231102T113000
DTEND;TZID=America/New_York:20231102T130000
DTSTAMP:20260424T050614
CREATED:20231016T190256Z
LAST-MODIFIED:20231016T190256Z
UID:2463-1698924600-1698930000@elcbigbend.org
SUMMARY:Board of Directors Meeting
DESCRIPTION:For information on how to view this meeting via zoom\, please email Rebecca Gonzalez at governance@elcbigbend.org to receive an invitation link.
URL:https://elcbigbend.org/event/board-of-directors-meeting-4/
LOCATION:Zoom Webinar
CATEGORIES:Board of Directors
ORGANIZER;CN="Rebecca Gonzalez":MAILTO:RGonzalez@elcbigbend.org
END:VEVENT
BEGIN:VEVENT
DTSTART;TZID=America/New_York:20231101T130000
DTEND;TZID=America/New_York:20231101T140000
DTSTAMP:20260424T050614
CREATED:20231016T190345Z
LAST-MODIFIED:20231016T190345Z
UID:2465-1698843600-1698847200@elcbigbend.org
SUMMARY:Executive Committee Meeting
DESCRIPTION:For information on how to view this meeting via zoom\, please email Rebecca Gonzalez at governance@elcbigbend.org to receive an invitation link.
URL:https://elcbigbend.org/event/executive-committee-meeting-15/
LOCATION:Zoom Webinar
CATEGORIES:Executive Committee
ORGANIZER;CN="Rebecca Gonzalez":MAILTO:RGonzalez@elcbigbend.org
END:VEVENT
BEGIN:VEVENT
DTSTART;TZID=America/New_York:20231026T100000
DTEND;TZID=America/New_York:20231026T110000
DTSTAMP:20260424T050614
CREATED:20231025T141915Z
LAST-MODIFIED:20231026T142516Z
UID:2475-1698314400-1698318000@elcbigbend.org
SUMMARY:Ad Hoc Committee Meeting
DESCRIPTION:For information on how to view this meeting via zoom\, please email Rebecca Gonzalez at governance@elcbigbend.org to receive an invitation link.
URL:https://elcbigbend.org/event/ad-hoc-committee-meeting-7/
LOCATION:Zoom Webinar
CATEGORIES:Ad Hoc Committee
ORGANIZER;CN="Rebecca Gonzalez":MAILTO:RGonzalez@elcbigbend.org
END:VEVENT
BEGIN:VEVENT
DTSTART;TZID=America/New_York:20231012T100000
DTEND;TZID=America/New_York:20231012T110000
DTSTAMP:20260424T050614
CREATED:20231011T122230Z
LAST-MODIFIED:20231012T122249Z
UID:2458-1697104800-1697108400@elcbigbend.org
SUMMARY:Ad Hoc Committee Meeting
DESCRIPTION:For information on how to view this meeting via zoom\, please email Rebecca Gonzalez at governance@elcbigbend.org to receive an invitation link.
URL:https://elcbigbend.org/event/ad-hoc-committee-meeting-6/
LOCATION:Zoom Webinar
CATEGORIES:Ad Hoc Committee
ORGANIZER;CN="Rebecca Gonzalez":MAILTO:RGonzalez@elcbigbend.org
END:VEVENT
END:VCALENDAR