BEGIN:VCALENDAR
VERSION:2.0
PRODID:-//Early Learning Coalition of the Big Bend - ECPv6.13.2.1//NONSGML v1.0//EN
CALSCALE:GREGORIAN
METHOD:PUBLISH
X-WR-CALNAME:Early Learning Coalition of the Big Bend
X-ORIGINAL-URL:https://elcbigbend.org
X-WR-CALDESC:Events for Early Learning Coalition of the Big Bend
REFRESH-INTERVAL;VALUE=DURATION:PT1H
X-Robots-Tag:noindex
X-PUBLISHED-TTL:PT1H
BEGIN:VTIMEZONE
TZID:America/New_York
BEGIN:DAYLIGHT
TZOFFSETFROM:-0500
TZOFFSETTO:-0400
TZNAME:EDT
DTSTART:20250309T070000
END:DAYLIGHT
BEGIN:STANDARD
TZOFFSETFROM:-0400
TZOFFSETTO:-0500
TZNAME:EST
DTSTART:20251102T060000
END:STANDARD
END:VTIMEZONE
BEGIN:VEVENT
DTSTART;TZID=America/New_York:20251007T090000
DTEND;TZID=America/New_York:20251007T100000
DTSTAMP:20260423T193400
CREATED:20251007T121441Z
LAST-MODIFIED:20251007T123235Z
UID:4058-1759827600-1759831200@elcbigbend.org
SUMMARY:Program\, Policy\, and Strategy Committee Meeting
DESCRIPTION:For information on how to view this meeting via zoom\, please email Rebecca Gonzalez at governance@elcbigbend.org to receive an invitation link.
URL:https://elcbigbend.org/event/advocacy-and-development-committee-meeting-3/
LOCATION:Zoom Webinar
CATEGORIES:Program Policy Committee
ORGANIZER;CN="Rebecca Gonzalez":MAILTO:RGonzalez@elcbigbend.org
END:VEVENT
BEGIN:VEVENT
DTSTART;TZID=America/New_York:20251002T100000
DTEND;TZID=America/New_York:20251002T110000
DTSTAMP:20260423T193400
CREATED:20251002T133322Z
LAST-MODIFIED:20251002T133322Z
UID:4055-1759399200-1759402800@elcbigbend.org
SUMMARY:Advocacy and Development Committee Meeting
DESCRIPTION:For information on how to view this meeting via zoom\, please email Rebecca Gonzalez at governance@elcbigbend.org to receive an invitation link.
URL:https://elcbigbend.org/event/advocacy-and-development-committee-meeting-2/
LOCATION:Zoom Webinar
ORGANIZER;CN="Rebecca Gonzalez":MAILTO:RGonzalez@elcbigbend.org
END:VEVENT
BEGIN:VEVENT
DTSTART;TZID=America/New_York:20250925T110000
DTEND;TZID=America/New_York:20250925T120000
DTSTAMP:20260423T193400
CREATED:20250924T150953Z
LAST-MODIFIED:20250925T151025Z
UID:4034-1758798000-1758801600@elcbigbend.org
SUMMARY:ELC Executive Committee Monthly Meeting
DESCRIPTION:For information on how to view this meeting via zoom\, please email Rebecca Gonzalez at governance@elcbigbend.org to receive an invitation link.
URL:https://elcbigbend.org/event/elc-executive-committee-monthly-meeting-6/
LOCATION:Zoom Webinar
CATEGORIES:Executive Committee
ORGANIZER;CN="Rebecca Gonzalez":MAILTO:RGonzalez@elcbigbend.org
END:VEVENT
BEGIN:VEVENT
DTSTART;TZID=America/New_York:20250915T100000
DTEND;TZID=America/New_York:20250915T110000
DTSTAMP:20260423T193400
CREATED:20250915T132846Z
LAST-MODIFIED:20250915T132846Z
UID:4031-1757930400-1757934000@elcbigbend.org
SUMMARY:Advocacy and Development Committee Meeting
DESCRIPTION:For information on how to view this meeting via zoom\, please email Rebecca Gonzalez at governance@elcbigbend.org to receive an invitation link.
URL:https://elcbigbend.org/event/advocacy-and-development-committee-meeting/
LOCATION:Zoom Webinar
CATEGORIES:Ad Hoc Committee
ORGANIZER;CN="Rebecca Gonzalez":MAILTO:RGonzalez@elcbigbend.org
END:VEVENT
BEGIN:VEVENT
DTSTART;TZID=America/New_York:20250814T103000
DTEND;TZID=America/New_York:20250814T143000
DTSTAMP:20260423T193400
CREATED:20250814T120844Z
LAST-MODIFIED:20250814T152505Z
UID:3913-1755167400-1755181800@elcbigbend.org
SUMMARY:ELC Board of Directors Meeting
DESCRIPTION:For information on how to view this meeting via zoom\, please email Rebecca Gonzalez at governance@elcbigbend.org to receive an invitation link. \nThe meeting is hybrid and will be held via Zoom\, and at 2639 N Monroe St\, Building C-300\, Tallahassee FL\, 32303.
URL:https://elcbigbend.org/event/elc-board-of-directors-meeting-4/
LOCATION:Zoom Webinar
CATEGORIES:Board of Directors
ORGANIZER;CN="Rebecca Gonzalez":MAILTO:RGonzalez@elcbigbend.org
END:VEVENT
BEGIN:VEVENT
DTSTART;TZID=America/New_York:20250731T100000
DTEND;TZID=America/New_York:20250731T110000
DTSTAMP:20260423T193400
CREATED:20250731T134619Z
LAST-MODIFIED:20250731T134619Z
UID:3898-1753956000-1753959600@elcbigbend.org
SUMMARY:ELC Executive Committee Meeting
DESCRIPTION:For information on how to view this meeting via zoom\, please email Rebecca Gonzalez at governance@elcbigbend.org to receive an invitation link.
URL:https://elcbigbend.org/event/elc-executive-committee-meeting-5/
LOCATION:Zoom Webinar
CATEGORIES:Executive Committee
ORGANIZER;CN="Rebecca Gonzalez":MAILTO:RGonzalez@elcbigbend.org
END:VEVENT
BEGIN:VEVENT
DTSTART;TZID=America/New_York:20250722T100000
DTEND;TZID=America/New_York:20250722T110000
DTSTAMP:20260423T193400
CREATED:20250721T120557Z
LAST-MODIFIED:20250722T150620Z
UID:3886-1753178400-1753182000@elcbigbend.org
SUMMARY:Finance Committee Meeting
DESCRIPTION:For information on how to view this meeting via zoom\, please email Rebecca Gonzalez at governance@elcbigbend.org to receive an invitation link.
URL:https://elcbigbend.org/event/finance-committee-meeting-13/
LOCATION:Zoom Webinar
CATEGORIES:Finance Committee
ORGANIZER;CN="Rebecca Gonzalez":MAILTO:RGonzalez@elcbigbend.org
END:VEVENT
BEGIN:VEVENT
DTSTART;TZID=America/New_York:20250708T100000
DTEND;TZID=America/New_York:20250708T110000
DTSTAMP:20260423T193400
CREATED:20250708T134407Z
LAST-MODIFIED:20250708T134407Z
UID:3848-1751968800-1751972400@elcbigbend.org
SUMMARY:ELC PPS Committee Meeting
DESCRIPTION:For information on how to view this meeting via zoom\, please email Rebecca Gonzalez at governance@elcbigbend.org to receive an invitation link.
URL:https://elcbigbend.org/event/elc-pps-committee-meeting-4/
LOCATION:Zoom Webinar
CATEGORIES:Program Policy Committee
ORGANIZER;CN="Rebecca Gonzalez":MAILTO:RGonzalez@elcbigbend.org
END:VEVENT
BEGIN:VEVENT
DTSTART;TZID=America/New_York:20250626T100000
DTEND;TZID=America/New_York:20250626T113000
DTSTAMP:20260423T193401
CREATED:20250623T171000Z
LAST-MODIFIED:20250626T145445Z
UID:3832-1750932000-1750937400@elcbigbend.org
SUMMARY:ELC Executive Committee Monthly Meeting
DESCRIPTION:For information on how to view this meeting via zoom\, please email Rebecca Gonzalez at governance@elcbigbend.org to receive an invitation link.
URL:https://elcbigbend.org/event/elc-executive-committee-monthly-meeting-5/
LOCATION:Zoom Webinar
CATEGORIES:Executive Committee
ORGANIZER;CN="Rebecca Gonzalez":MAILTO:RGonzalez@elcbigbend.org
END:VEVENT
BEGIN:VEVENT
DTSTART;TZID=America/New_York:20250623T130000
DTEND;TZID=America/New_York:20250623T140000
DTSTAMP:20260423T193401
CREATED:20250623T120836Z
LAST-MODIFIED:20250623T170853Z
UID:3830-1750683600-1750687200@elcbigbend.org
SUMMARY:ELC Ad Hoc Committee Meeting
DESCRIPTION:For information on how to view this meeting via zoom\, please email Rebecca Gonzalez at governance@elcbigbend.org to receive an invitation link.
URL:https://elcbigbend.org/event/elc-ad-hoc-committee-meeting-3/
LOCATION:Zoom Webinar
CATEGORIES:Ad Hoc Committee
ORGANIZER;CN="Rebecca Gonzalez":MAILTO:RGonzalez@elcbigbend.org
END:VEVENT
BEGIN:VEVENT
DTSTART;TZID=America/New_York:20250610T110000
DTEND;TZID=America/New_York:20250610T123000
DTSTAMP:20260423T193401
CREATED:20250610T125924Z
LAST-MODIFIED:20250610T125924Z
UID:3822-1749553200-1749558600@elcbigbend.org
SUMMARY:New Board Member Orientation
DESCRIPTION:For information on how to view this meeting via zoom\, please email Rebecca Gonzalez at governance@elcbigbend.org to receive an invitation link.
URL:https://elcbigbend.org/event/new-board-member-orientation-2/
LOCATION:Zoom Webinar
ORGANIZER;CN="Rebecca Gonzalez":MAILTO:RGonzalez@elcbigbend.org
END:VEVENT
BEGIN:VEVENT
DTSTART;TZID=America/New_York:20250501T113000
DTEND;TZID=America/New_York:20250501T130000
DTSTAMP:20260423T193401
CREATED:20250501T125542Z
LAST-MODIFIED:20250501T125542Z
UID:3720-1746099000-1746104400@elcbigbend.org
SUMMARY:ELC Board of Directors Meeting
DESCRIPTION:For information on how to view this meeting via zoom\, please email Rebecca Gonzalez at governance@elcbigbend.org to receive an invitation link.
URL:https://elcbigbend.org/event/elc-board-of-directors-meeting-3/
LOCATION:Zoom Webinar
CATEGORIES:Board of Directors
ORGANIZER;CN="Rebecca Gonzalez":MAILTO:RGonzalez@elcbigbend.org
END:VEVENT
BEGIN:VEVENT
DTSTART;TZID=America/New_York:20250424T100000
DTEND;TZID=America/New_York:20250424T110000
DTSTAMP:20260423T193401
CREATED:20250423T123418Z
LAST-MODIFIED:20250423T123418Z
UID:3717-1745488800-1745492400@elcbigbend.org
SUMMARY:ELC Executive Committee Meeting
DESCRIPTION:For information on how to view this meeting via zoom\, please email Rebecca Gonzalez at governance@elcbigbend.org to receive an invitation link.
URL:https://elcbigbend.org/event/elc-executive-committee-meeting-3/
LOCATION:Zoom Webinar
CATEGORIES:Executive Committee
ORGANIZER;CN="Rebecca Gonzalez":MAILTO:RGonzalez@elcbigbend.org
END:VEVENT
BEGIN:VEVENT
DTSTART;TZID=America/New_York:20250422T100000
DTEND;TZID=America/New_York:20250422T110000
DTSTAMP:20260423T193401
CREATED:20250422T134122Z
LAST-MODIFIED:20250422T134122Z
UID:3715-1745316000-1745319600@elcbigbend.org
SUMMARY:ELC Finance Committee Meeting
DESCRIPTION:For information on how to view this meeting via zoom\, please email Rebecca Gonzalez at governance@elcbigbend.org to receive an invitation link.
URL:https://elcbigbend.org/event/elc-finance-committee-meeting-4/
LOCATION:Zoom Webinar
CATEGORIES:Finance Committee
ORGANIZER;CN="Rebecca Gonzalez":MAILTO:RGonzalez@elcbigbend.org
END:VEVENT
BEGIN:VEVENT
DTSTART;VALUE=DATE:20250413
DTEND;VALUE=DATE:20250419
DTSTAMP:20260423T193401
CREATED:20240911T140515Z
LAST-MODIFIED:20240911T140515Z
UID:3240-1744502400-1745020799@elcbigbend.org
SUMMARY:Children's Week
DESCRIPTION:
URL:https://elcbigbend.org/event/childrens-week/
END:VEVENT
BEGIN:VEVENT
DTSTART;TZID=America/New_York:20250412T080000
DTEND;TZID=America/New_York:20250412T163000
DTSTAMP:20260423T193401
CREATED:20240911T140304Z
LAST-MODIFIED:20250117T035542Z
UID:3238-1744444800-1744475400@elcbigbend.org
SUMMARY:ELC's Early Learning Conference: Cultivating Curiosity!
DESCRIPTION:Check back for more information on the exciting conference designed specifically for our Big Bend educators and caregivers!
URL:https://elcbigbend.org/event/cultivating-curiosity-elcs-early-learning-conference/
END:VEVENT
BEGIN:VEVENT
DTSTART;TZID=America/New_York:20250407T100000
DTEND;TZID=America/New_York:20250407T110000
DTSTAMP:20260423T193401
CREATED:20250404T134139Z
LAST-MODIFIED:20250404T134139Z
UID:3687-1744020000-1744023600@elcbigbend.org
SUMMARY:ELC PPS Committee Meeting
DESCRIPTION:For information on how to view this meeting via zoom\, please email Rebecca Gonzalez at governance@elcbigbend.org to receive an invitation link.
URL:https://elcbigbend.org/event/elc-pps-committee-meeting-3/
LOCATION:Zoom Webinar
CATEGORIES:Program Policy Committee
ORGANIZER;CN="Rebecca Gonzalez":MAILTO:RGonzalez@elcbigbend.org
END:VEVENT
BEGIN:VEVENT
DTSTART;TZID=America/New_York:20250327T113000
DTEND;TZID=America/New_York:20250327T123000
DTSTAMP:20260423T193401
CREATED:20250328T000151Z
LAST-MODIFIED:20250328T000151Z
UID:3682-1743075000-1743078600@elcbigbend.org
SUMMARY:Executive Committee Monthly Meeting
DESCRIPTION:For information on how to view this meeting via zoom\, please email Rebecca Gonzalez at governance@elcbigbend.org to receive an invitation link.
URL:https://elcbigbend.org/event/executive-committee-monthly-meeting-13/
LOCATION:Zoom Webinar
CATEGORIES:Executive Committee
ORGANIZER;CN="Rebecca Gonzalez":MAILTO:RGonzalez@elcbigbend.org
END:VEVENT
BEGIN:VEVENT
DTSTART;TZID=America/New_York:20250307T173000
DTEND;TZID=America/New_York:20250307T193000
DTSTAMP:20260423T193401
CREATED:20250306T143051Z
LAST-MODIFIED:20250307T183042Z
UID:3615-1741368600-1741375800@elcbigbend.org
SUMMARY:Hearth and Soul Community Partner Event
DESCRIPTION:
URL:https://elcbigbend.org/event/hearth-and-soul-community-partner-event/
END:VEVENT
BEGIN:VEVENT
DTSTART;TZID=America/New_York:20250303T170000
DTEND;TZID=America/New_York:20250303T210000
DTSTAMP:20260423T193401
CREATED:20250303T140949Z
LAST-MODIFIED:20250303T140949Z
UID:3612-1741021200-1741035600@elcbigbend.org
SUMMARY:The Southern Group Legislative Session Kick Off
DESCRIPTION:
URL:https://elcbigbend.org/event/the-southern-group-legislative-session-kick-off/
END:VEVENT
BEGIN:VEVENT
DTSTART;TZID=America/New_York:20250227T113000
DTEND;TZID=America/New_York:20250227T130000
DTSTAMP:20260423T193401
CREATED:20250226T162833Z
LAST-MODIFIED:20250226T162833Z
UID:3610-1740655800-1740661200@elcbigbend.org
SUMMARY:ELC Board of Directors Meeting
DESCRIPTION:For information on how to view this meeting via zoom\, please email Rebecca Gonzalez at governance@elcbigbend.org to receive an invitation link.
URL:https://elcbigbend.org/event/elc-board-of-directors-meeting-2/
LOCATION:Zoom Webinar
CATEGORIES:Board of Directors
ORGANIZER;CN="Rebecca Gonzalez":MAILTO:RGonzalez@elcbigbend.org
END:VEVENT
BEGIN:VEVENT
DTSTART;TZID=America/New_York:20250213T100000
DTEND;TZID=America/New_York:20250213T110000
DTSTAMP:20260423T193401
CREATED:20250212T051408Z
LAST-MODIFIED:20250212T051408Z
UID:3597-1739440800-1739444400@elcbigbend.org
SUMMARY:Executive Committee Meeting
DESCRIPTION:For information on how to view this meeting via zoom\, please email Rebecca Gonzalez at governance@elcbigbend.org to receive an invitation link.
URL:https://elcbigbend.org/event/executive-committee-meeting-19/
LOCATION:Zoom Webinar
CATEGORIES:Executive Committee
ORGANIZER;CN="Rebecca Gonzalez":MAILTO:RGonzalez@elcbigbend.org
END:VEVENT
BEGIN:VEVENT
DTSTART;TZID=America/New_York:20250212T130000
DTEND;TZID=America/New_York:20250212T140000
DTSTAMP:20260423T193401
CREATED:20250212T051317Z
LAST-MODIFIED:20250212T051317Z
UID:3595-1739365200-1739368800@elcbigbend.org
SUMMARY:Ad Hoc Committee Meeting
DESCRIPTION:For information on how to view this meeting via zoom\, please email Rebecca Gonzalez at governance@elcbigbend.org to receive an invitation link.
URL:https://elcbigbend.org/event/ad-hoc-committee-meeting-17/
LOCATION:Zoom Webinar
CATEGORIES:Ad Hoc Committee
ORGANIZER;CN="Rebecca Gonzalez":MAILTO:RGonzalez@elcbigbend.org
END:VEVENT
BEGIN:VEVENT
DTSTART;TZID=America/New_York:20250211T110000
DTEND;TZID=America/New_York:20250211T140000
DTSTAMP:20260423T193401
CREATED:20250205T022444Z
LAST-MODIFIED:20250205T022444Z
UID:3571-1739271600-1739282400@elcbigbend.org
SUMMARY:Books\, Balls\, and Blocks! Free Screening Event
DESCRIPTION:Join us at ELC’s Leon County Service Center to play with your child and learn how books\, balls\, and blocks encourage child development!\n\nWhile there\, you can access FREE behavioral and developmental screenings in addition to hearing and eye exams (children aged 0-8). Plus\, connect with local resources that will further help you support your child’s growth.\n\nOur ELC teams\, alongside Help Me Grow and other community partners\, will be there to answer questions and assist you in real time. Register today so we can best serve you: https://form.jotform.com/243393663857066
URL:https://elcbigbend.org/event/books-balls-and-blocks-free-screening-event/
END:VEVENT
BEGIN:VEVENT
DTSTART;TZID=America/New_York:20250206T123000
DTEND;TZID=America/New_York:20250206T140000
DTSTAMP:20260423T193401
CREATED:20250205T022124Z
LAST-MODIFIED:20250205T022220Z
UID:3569-1738845000-1738850400@elcbigbend.org
SUMMARY:ELC Provider Webinar
DESCRIPTION:Join us for our Provider Quarterly Webinar on Thursday\, February 6\, 2025\, from 12:30 PM – 2:00 PM EST! These sessions are designed to provide you with the latest updates and important information to support your work as a School Readiness and VPK provider. \nWhat to Expect: \n\nKey program updates and reminders\nBest practices and helpful tips\nA chance to ask questions and connect with our team\n\nWebinar Details: \n\nDate: Thursday\, February 6\, 2025\nTime: 12:30 PM – 2:00 PM EST\nLocation: Online Webinar\n\nRegister Now: https://us02web.zoom.us/webinar/register/WN_woVMLZW8ToCVVoKDW-_OPA \nAfter registering\, you will receive a confirmation email with details on how to join the webinar.
URL:https://elcbigbend.org/event/elc-provider-webinar/
LOCATION:Zoom Webinar
CATEGORIES:Provider Event
END:VEVENT
BEGIN:VEVENT
DTSTART;TZID=America/New_York:20250204T100000
DTEND;TZID=America/New_York:20250204T110000
DTSTAMP:20260423T193401
CREATED:20250204T132608Z
LAST-MODIFIED:20250204T132608Z
UID:3554-1738663200-1738666800@elcbigbend.org
SUMMARY:Audit Committee Meeting
DESCRIPTION:For information on how to view this meeting via zoom\, please email Rebecca Gonzalez at governance@elcbigbend.org to receive an invitation link.
URL:https://elcbigbend.org/event/audit-committee-meeting-6/
LOCATION:Zoom Webinar
CATEGORIES:Audit Committee
ORGANIZER;CN="Rebecca Gonzalez":MAILTO:RGonzalez@elcbigbend.org
END:VEVENT
BEGIN:VEVENT
DTSTART;TZID=America/New_York:20250130T173000
DTEND;TZID=America/New_York:20250130T203000
DTSTAMP:20260423T193401
CREATED:20250131T041308Z
LAST-MODIFIED:20250122T201851Z
UID:3438-1738258200-1738269000@elcbigbend.org
SUMMARY:Color Me Blue: A Kid's Art Auction Event
DESCRIPTION:The Early Learning Coalition of the Big Bend Region Board of Directors invites you to their signature event where creativity meets compassion! Join them on January 30th at Goodwood Museum from 5:30-8:30PM where over 20 young artists from around the Big Bend Region will have featured artwork available for bids.
URL:https://elcbigbend.org/event/color-me-blue-a-kids-art-auction-event-2/
END:VEVENT
BEGIN:VEVENT
DTSTART;TZID=America/New_York:20250130T100000
DTEND;TZID=America/New_York:20250130T140000
DTSTAMP:20260423T193401
CREATED:20250130T154354Z
LAST-MODIFIED:20250130T154354Z
UID:3542-1738231200-1738245600@elcbigbend.org
SUMMARY:Color Me Blue Set-Up
DESCRIPTION:Set up at Goodwood Museum
URL:https://elcbigbend.org/event/color-me-blue-set-up/
ORGANIZER;CN="Rebecca Gonzalez":MAILTO:RGonzalez@elcbigbend.org
END:VEVENT
BEGIN:VEVENT
DTSTART;TZID=America/New_York:20250129T130000
DTEND;TZID=America/New_York:20250129T140000
DTSTAMP:20260423T193401
CREATED:20250129T121645Z
LAST-MODIFIED:20250129T121645Z
UID:3540-1738155600-1738159200@elcbigbend.org
SUMMARY:Ad Hoc Committee Meeting
DESCRIPTION:For information on how to view this meeting via zoom\, please email Rebecca Gonzalez at governance@elcbigbend.org to receive an invitation link.
URL:https://elcbigbend.org/event/ad-hoc-committee-meeting-16/
LOCATION:Zoom Webinar
CATEGORIES:Ad Hoc Committee
ORGANIZER;CN="Rebecca Gonzalez":MAILTO:RGonzalez@elcbigbend.org
END:VEVENT
BEGIN:VEVENT
DTSTART;TZID=America/New_York:20250121T100000
DTEND;TZID=America/New_York:20250121T110000
DTSTAMP:20260423T193401
CREATED:20250121T142248Z
LAST-MODIFIED:20250121T142248Z
UID:3517-1737453600-1737457200@elcbigbend.org
SUMMARY:Finance Committee Meeting
DESCRIPTION:For information on how to view this meeting via zoom\, please email Rebecca Gonzalez at governance@elcbigbend.org to receive an invitation link.
URL:https://elcbigbend.org/event/finance-committee-meeting-12/
LOCATION:Zoom Webinar
CATEGORIES:Finance Committee
ORGANIZER;CN="Rebecca Gonzalez":MAILTO:RGonzalez@elcbigbend.org
END:VEVENT
END:VCALENDAR