BEGIN:VCALENDAR
VERSION:2.0
PRODID:-//Early Learning Coalition of the Big Bend - ECPv6.13.2.1//NONSGML v1.0//EN
CALSCALE:GREGORIAN
METHOD:PUBLISH
X-WR-CALNAME:Early Learning Coalition of the Big Bend
X-ORIGINAL-URL:https://elcbigbend.org
X-WR-CALDESC:Events for Early Learning Coalition of the Big Bend
REFRESH-INTERVAL;VALUE=DURATION:PT1H
X-Robots-Tag:noindex
X-PUBLISHED-TTL:PT1H
BEGIN:VTIMEZONE
TZID:America/New_York
BEGIN:DAYLIGHT
TZOFFSETFROM:-0500
TZOFFSETTO:-0400
TZNAME:EDT
DTSTART:20220313T070000
END:DAYLIGHT
BEGIN:STANDARD
TZOFFSETFROM:-0400
TZOFFSETTO:-0500
TZNAME:EST
DTSTART:20221106T060000
END:STANDARD
END:VTIMEZONE
BEGIN:VTIMEZONE
TZID:UTC
BEGIN:STANDARD
TZOFFSETFROM:+0000
TZOFFSETTO:+0000
TZNAME:UTC
DTSTART:20220101T000000
END:STANDARD
END:VTIMEZONE
BEGIN:VEVENT
DTSTART;VALUE=DATE:20220922
DTEND;VALUE=DATE:20221028
DTSTAMP:20260424T184747
CREATED:20220823T202625Z
LAST-MODIFIED:20220823T202625Z
UID:1482-1663804800-1666915199@elcbigbend.org
SUMMARY:ELC 46661: Telling Stories through the Story-Making Approach to Literacy!
DESCRIPTION:Story-Making combines storytelling through\, movement\, songs\, play and art. It’s the practice of communicating through language\, movement\, and images to move children forward in their literacy learning. The course is based on celebrating literacy through visual\, auditory\, and kinesthetic learning. \n\nRegistration closes  September 22\, 2022 \nCourse Dates 9/22 -10/27/2022\n15 hours In-Service\, no fee\, CEUs (fee $28.00)\nTarget Audience: Toddler\, Pre-K\, VPK Teachers and Directors\n\nClick here to register
URL:https://elcbigbend.org/event/elc-46661-telling-stories-through-the-story-making-approach-to-literacy/
LOCATION:Zoom Webinar
CATEGORIES:Provider Event
ORGANIZER;CN="Kathy Douglas":MAILTO:kdouglas@elcbigbend.org
END:VEVENT
BEGIN:VEVENT
DTSTART;TZID=America/New_York:20220915T100000
DTEND;TZID=America/New_York:20220915T110000
DTSTAMP:20260424T184747
CREATED:20220811T010626Z
LAST-MODIFIED:20220811T010626Z
UID:1435-1663236000-1663239600@elcbigbend.org
SUMMARY:Executive Committee Meeting
DESCRIPTION:
URL:https://elcbigbend.org/event/executive-committee-meeting-7/
LOCATION:Zoom Webinar
CATEGORIES:Executive Committee
ORGANIZER;CN="Rebecca Gonzalez":MAILTO:RGonzalez@elcbigbend.org
END:VEVENT
BEGIN:VEVENT
DTSTART;TZID=America/New_York:20220908T100000
DTEND;TZID=America/New_York:20220908T110000
DTSTAMP:20260424T184747
CREATED:20220811T010549Z
LAST-MODIFIED:20220811T010549Z
UID:1433-1662631200-1662634800@elcbigbend.org
SUMMARY:Audit Committee Meeting
DESCRIPTION:
URL:https://elcbigbend.org/event/audit-committee-meeting-2/
LOCATION:Zoom Webinar
CATEGORIES:Audit Committee
ORGANIZER;CN="Rebecca Gonzalez":MAILTO:RGonzalez@elcbigbend.org
END:VEVENT
BEGIN:VEVENT
DTSTART;TZID=America/New_York:20220906T100000
DTEND;TZID=America/New_York:20220906T110000
DTSTAMP:20260424T184747
CREATED:20220811T010507Z
LAST-MODIFIED:20220811T010507Z
UID:1431-1662458400-1662462000@elcbigbend.org
SUMMARY:Finance Committee Meeting
DESCRIPTION:
URL:https://elcbigbend.org/event/finance-committee-meeting-5/
LOCATION:Zoom Webinar
CATEGORIES:Finance Committee
ORGANIZER;CN="Rebecca Gonzalez":MAILTO:RGonzalez@elcbigbend.org
END:VEVENT
BEGIN:VEVENT
DTSTART;TZID=America/New_York:20220901T090000
DTEND;TZID=America/New_York:20220901T100000
DTSTAMP:20260424T184747
CREATED:20220811T010428Z
LAST-MODIFIED:20220811T010428Z
UID:1429-1662022800-1662026400@elcbigbend.org
SUMMARY:Program\, Policy\, and Strategy Committee Meeting
DESCRIPTION:
URL:https://elcbigbend.org/event/program-policy-and-strategy-committee-meeting/
LOCATION:Zoom Webinar
CATEGORIES:Program Policy Committee
ORGANIZER;CN="Rebecca Gonzalez":MAILTO:RGonzalez@elcbigbend.org
END:VEVENT
BEGIN:VEVENT
DTSTART;TZID=America/New_York:20220825T103000
DTEND;TZID=America/New_York:20220825T113000
DTSTAMP:20260424T184747
CREATED:20220818T222911Z
LAST-MODIFIED:20220818T222922Z
UID:1463-1661423400-1661427000@elcbigbend.org
SUMMARY:Executive Committee Meeting
DESCRIPTION:
URL:https://elcbigbend.org/event/executive-committee-meeting-8/
LOCATION:Zoom Webinar
CATEGORIES:Executive Committee
ORGANIZER;CN="Rebecca Gonzalez":MAILTO:RGonzalez@elcbigbend.org
END:VEVENT
BEGIN:VEVENT
DTSTART;TZID=America/New_York:20220825T103000
DTEND;TZID=America/New_York:20220825T113000
DTSTAMP:20260424T184747
CREATED:20220811T010325Z
LAST-MODIFIED:20220811T010325Z
UID:1426-1661423400-1661427000@elcbigbend.org
SUMMARY:Executive Committee Meeting
DESCRIPTION:
URL:https://elcbigbend.org/event/executive-committee-meeting-6/
ORGANIZER;CN="Rebecca Gonzalez":MAILTO:RGonzalez@elcbigbend.org
END:VEVENT
BEGIN:VEVENT
DTSTART;VALUE=DATE:20220817
DTEND;VALUE=DATE:20220913
DTSTAMP:20260424T184747
CREATED:20220804T192601Z
LAST-MODIFIED:20220804T192601Z
UID:1424-1660694400-1663027199@elcbigbend.org
SUMMARY:ELC 21229: Setting up Engaging Learning Spaces
DESCRIPTION:Young children learn best through hands-on experiences. Creative hands-on play experiences are important and essential to the development of the whole child. In this course teachers become increasingly aware of the importance of creating play spaces that support best practices. Teachers will learn how to set up large group\, small group and individual play spaces that keep children eager to learn and develop specific skills. You will also be provided with observational tools that help you determine what play spaces fit each child’s developmental needs. Over twenty-five different play spaces will be visually presented in the course. \n\nCourse Dates – August 17- September 12\, 2022\n15 hours In-Service\, no fee\nTarget Audience Toddler\, Pre-K & VPK Teachers\nTo register click here
URL:https://elcbigbend.org/event/elc-21229-setting-up-engaging-learning-spaces/
LOCATION:Zoom Webinar
CATEGORIES:Provider Event
ORGANIZER;CN="Kathy Douglas":MAILTO:kdouglas@elcbigbend.org
END:VEVENT
BEGIN:VEVENT
DTSTART;VALUE=DATE:20220816
DTEND;VALUE=DATE:20220917
DTSTAMP:20260424T184747
CREATED:20220804T192454Z
LAST-MODIFIED:20220804T192454Z
UID:1422-1660608000-1663372799@elcbigbend.org
SUMMARY:ELC 37228: Best Practices in Language\, Literacy\, and Communication!
DESCRIPTION:Young children need a sturdy foundation for kindergarten success. Language\, Literacy and Communication\, is a course based on developmentally appropriate practice and the Florida Early Learning and Developmental Standards. This course supports learning language and literacy through small group activities\, circle time and learning centers. Also\, included in this course are vocabulary builders through storytelling and tips on creating an emergent literacy environment. Target Audience – Prekindergarten Teachers \n\nCourse Dates – August 16 – September 16\, 2022\n10 hours In-Service\, no fee\nTarget Audience: Toddler\, Pre-K & VPK Teachers\nTo register click here
URL:https://elcbigbend.org/event/elc-37228-best-practices-in-language-literacy-and-communication/
LOCATION:Zoom Webinar
CATEGORIES:Provider Event
ORGANIZER;CN="Kathy Douglas":MAILTO:kdouglas@elcbigbend.org
END:VEVENT
BEGIN:VEVENT
DTSTART;VALUE=DATE:20220815
DTEND;VALUE=DATE:20220917
DTSTAMP:20260424T184747
CREATED:20220804T192334Z
LAST-MODIFIED:20220804T192334Z
UID:1420-1660521600-1663372799@elcbigbend.org
SUMMARY:ELC 34221: Supporting the Needs of Families - Communicating\, Celebrating & Partnering
DESCRIPTION:The course supports strengthening relationships with families. Relationships are meant to support families built on a set of core guiding principles and are an essential factor in successful early childhood programs. This course will provide you with a wealth of ideas\, resources\, and strategies to help enhance your partnerships with families and create a truly family-centered program. \n\nCourse Dates – August 15- September 16\, 2022\n10 hours In-Service\, no fee\nTarget Audience Target Audience Toddler\, Pre-K & VPK Teachers\nTo register click here
URL:https://elcbigbend.org/event/elc-34221-supporting-the-needs-of-families-communicating-celebrating-partnering/
LOCATION:Zoom Webinar
ORGANIZER;CN="Kathy Douglas":MAILTO:kdouglas@elcbigbend.org
END:VEVENT
BEGIN:VEVENT
DTSTART;TZID=America/New_York:20220723T083000
DTEND;TZID=America/New_York:20220723T120000
DTSTAMP:20260424T184747
CREATED:20220628T134817Z
LAST-MODIFIED:20220628T134817Z
UID:1348-1658565000-1658577600@elcbigbend.org
SUMMARY:First Aid | CPR | AED Class
DESCRIPTION:This in-person classes will be held on Saturdays from 8:30am – 12:30pm at our Leon County Service Center\, 2639 N Monroe Street\, Building C-300\, Tallahassee\, FL 32303. Masks and social distancing will be enforced as COVID precautions. Participants must register prior to attending.\n\n\n\nRegister Here
URL:https://elcbigbend.org/event/first-aid-cpr-aed-class/
CATEGORIES:Provider Event
ORGANIZER;CN="Becky Taylor":MAILTO:btaylor@elcbigbend.org
END:VEVENT
BEGIN:VEVENT
DTSTART;VALUE=DATE:20220716
DTEND;VALUE=DATE:20220802
DTSTAMP:20260424T184747
CREATED:20220628T004914Z
LAST-MODIFIED:20220628T004914Z
UID:1339-1657929600-1659398399@elcbigbend.org
SUMMARY:ELC 3999: Chicka\, Chicka 1-2-3: Meet Me at the Top of the Apple Tree!
DESCRIPTION:Course Dates: July 16 – August 1\, 2022\n5 Hours In-Service\, no fee\nTarget Audience: Pre-K & VPK Teachers\nRegistration open from June 21 – July 16\, 2022\n\nCatch up with 1\, 2\, and 3 racing to the top of the apple tree.  This course supports early math skills through art\, cooking\, science\, music\, dramatic play\, and literacy.  Through this engaging course teachers will expand their skills and knowledge of emergent math and observational practice\, while setting each child up for successful learning outcomes.  Be prepared to see children’s eagerness and curiosity grow as you join us at the top of the apple tree to see what’s in store for you and the children. \nRegister Here
URL:https://elcbigbend.org/event/elc-3999-chicka-chicka-1-2-3-meet-me-at-the-top-of-the-apple-tree/
LOCATION:Zoom Webinar
CATEGORIES:Provider Event
ORGANIZER;CN="Kathy Douglas":MAILTO:kdouglas@elcbigbend.org
END:VEVENT
BEGIN:VEVENT
DTSTART;VALUE=DATE:20220707
DTEND;VALUE=DATE:20220806
DTSTAMP:20260424T184747
CREATED:20220628T005051Z
LAST-MODIFIED:20220628T005051Z
UID:1341-1657152000-1659743999@elcbigbend.org
SUMMARY:ELC 3015: Guiding Young Children - Establishing Predictable Routines & Setting Clear Rules with Children
DESCRIPTION:Course Dates – July 7 – August 5\, 2022\n10 Hours In-Service\, no fee\nTarget Audience Target Audience Toddler\, Pre-K & VPK Teachers\nRegistration open from June 21 – July 7\, 2022\n\nGuiding children’s behavior is very important and teachers guide children throughout the day\, not just when a child acts in a way that is unsafe or unacceptable.  It is important that you guide behavior by establishing predictable developmentally appropriate rituals\, routines and set clear positively stated rules with children.  It is also your responsibility to teach and model kindness\, respect\, caring and responsibility.  Children can do this with support of an attentive and aware teacher\, who has “with-it-ness.”  Together\, these actions help children feel noticed\, confident\, and secure. Children look to you to set limits\, keep them safe and know you’re on their team. This course provides you with a developmental approach to guiding young children\, while keeping them safe and engaged in learning. \nRegister Here
URL:https://elcbigbend.org/event/elc-3015-guiding-young-children-establishing-predictable-routines-setting-clear-rules-with-children/
LOCATION:Zoom Webinar
CATEGORIES:Provider Event
ORGANIZER;CN="Kathy Douglas":MAILTO:kdouglas@elcbigbend.org
END:VEVENT
BEGIN:VEVENT
DTSTART;VALUE=DATE:20220707
DTEND;VALUE=DATE:20220806
DTSTAMP:20260424T184747
CREATED:20220628T004705Z
LAST-MODIFIED:20220628T004705Z
UID:1336-1657152000-1659743999@elcbigbend.org
SUMMARY:ELC 2788:  Getting to Know You: The First Thirty Days!
DESCRIPTION:Course Dates: July 7 – August 5\, 2022\n10 Hours In-Service\, no fee\nTarget Audience:  Toddler\, Pre-K & VPK Teachers\nRegistration open from June 21 – July 7\, 2022\n\nThose first few weeks of preschool set the stage for the entire year!  The children come into the new classroom prepared for play and learning\, but they must first get to know their NEW teacher\, rules\, learning centers\, transitions\, friends\, and more!  Learn some fresh activities and get organizational tips in this course. \nRegister Here
URL:https://elcbigbend.org/event/elc-2788-getting-to-know-you-the-first-thirty-days/
LOCATION:Zoom Webinar
CATEGORIES:Provider Event
ORGANIZER;CN="Kathy Douglas":MAILTO:kdouglas@elcbigbend.org
END:VEVENT
BEGIN:VEVENT
DTSTART;TZID=UTC:20220623T113000
DTEND;TZID=UTC:20220623T130000
DTSTAMP:20260424T184747
CREATED:20211015T050002Z
LAST-MODIFIED:20220622T211132Z
UID:461-1655983800-1655989200@elcbigbend.org
SUMMARY:Board Meeting
DESCRIPTION:
URL:https://elcbigbend.org/event/board-meeting-3/
LOCATION:Zoom Webinar
CATEGORIES:Board of Directors,Public Meeting
END:VEVENT
BEGIN:VEVENT
DTSTART;TZID=UTC:20220609T090000
DTEND;TZID=UTC:20220609T100000
DTSTAMP:20260424T184747
CREATED:20211015T045939Z
LAST-MODIFIED:20220609T051411Z
UID:460-1654765200-1654768800@elcbigbend.org
SUMMARY:Executive Committee Meeting - Canceled
DESCRIPTION:
URL:https://elcbigbend.org/event/executive-committee-meeting-4/
CATEGORIES:Executive Committee,Public Meeting
END:VEVENT
BEGIN:VEVENT
DTSTART;TZID=UTC:20220607T090000
DTEND;TZID=UTC:20220607T100000
DTSTAMP:20260424T184747
CREATED:20211015T045900Z
LAST-MODIFIED:20220118T004311Z
UID:459-1654592400-1654596000@elcbigbend.org
SUMMARY:Finance Committee Meeting
DESCRIPTION:
URL:https://elcbigbend.org/event/finance-committee-meeting-4/
CATEGORIES:Finance Committee,Public Meeting
END:VEVENT
BEGIN:VEVENT
DTSTART;TZID=UTC:20220602T090000
DTEND;TZID=UTC:20220602T100000
DTSTAMP:20260424T184747
CREATED:20211015T045837Z
LAST-MODIFIED:20220118T004311Z
UID:458-1654160400-1654164000@elcbigbend.org
SUMMARY:Program Policy Committee Meeting
DESCRIPTION:
URL:https://elcbigbend.org/event/program-policy-committee-meeting-4/
CATEGORIES:Program Policy Committee,Public Meeting
END:VEVENT
BEGIN:VEVENT
DTSTART;TZID=UTC:20220526T090000
DTEND;TZID=UTC:20220526T100000
DTSTAMP:20260424T184747
CREATED:20220413T065519Z
LAST-MODIFIED:20220413T065808Z
UID:1051-1653555600-1653559200@elcbigbend.org
SUMMARY:Executive Committee Meeting
DESCRIPTION:
URL:https://elcbigbend.org/event/executive-committee-meeting-5/
CATEGORIES:Executive Committee,Public Meeting
END:VEVENT
BEGIN:VEVENT
DTSTART;TZID=UTC:20220521T080000
DTEND;TZID=UTC:20220521T163000
DTSTAMP:20260424T184747
CREATED:20220502T181448Z
LAST-MODIFIED:20220502T181448Z
UID:1143-1653120000-1653150600@elcbigbend.org
SUMMARY:Early Education Conference
DESCRIPTION:The ELC of the Big Bend Region is thrilled to announce their Early Childhood conference is returning! Please join us and your fellow early childhood professionals for a day of fun\, laughter\, and relaxation. This year we will  offer three keynote speakers and a variety of goodies for you and your classrooms. The event will be on May 21st\, 2022\, and the Donald L. Tucker Civic Center from 8:00a.m. to 4:30p.m. Sign-up today before seats sell out.
URL:https://elcbigbend.org/event/early-education-conference/
CATEGORIES:Provider Event
END:VEVENT
BEGIN:VEVENT
DTSTART;TZID=UTC:20220512T090000
DTEND;TZID=UTC:20220512T100000
DTSTAMP:20260424T184747
CREATED:20211015T190823Z
LAST-MODIFIED:20220413T065035Z
UID:520-1652346000-1652349600@elcbigbend.org
SUMMARY:Rescheduled - Executive Committee Monthly Meeting
DESCRIPTION:
URL:https://elcbigbend.org/event/executive-committee-monthly-meeting-9/
CATEGORIES:Executive Committee,Public Meeting
END:VEVENT
BEGIN:VEVENT
DTSTART;VALUE=DATE:20220511
DTEND;VALUE=DATE:20220616
DTSTAMP:20260424T184747
CREATED:20220429T220944Z
LAST-MODIFIED:20220430T002103Z
UID:1133-1652227200-1655337599@elcbigbend.org
SUMMARY:Virtual Workshop: Ten Keys to Summer Curriculum to Engage Young Children
DESCRIPTION:Summertime is near and all the children are ready for a BIG curriculum change!  Are you ready to jump into summer learning activities?  This course will provide you with the 10 keys to a summer curriculum that allows you to set the stage for learning\, observing and enrichment activities that are made for summer fun. \n\nCourse Dates May 11\, 2022 – June 15\, 2022\n10 In-service hours\nTarget Audience Pre-K and VPK Teachers\n\n 
URL:https://elcbigbend.org/event/virtual-workshop-ten-keys-to-summer-curriculum-to-engage-young-children/
CATEGORIES:Provider Event
END:VEVENT
BEGIN:VEVENT
DTSTART;VALUE=DATE:20220511
DTEND;VALUE=DATE:20220611
DTSTAMP:20260424T184747
CREATED:20220429T220832Z
LAST-MODIFIED:20220430T002112Z
UID:1131-1652227200-1654905599@elcbigbend.org
SUMMARY:Virtual Workshop: ELC 5222 Best Practices in Leadership
DESCRIPTION:Effective leadership is vital to the success of early care and education programs. With skilled and committed leaders to help shape teaching and learning we could create and sustain high-quality learning environments that have a lasting impact on teachers\, children\, and families.  The core focus of this course is on developmentally appropriate practices! \n\nCourse Dates May 11\, 2022 – June 10\, 2022\n15 In-service hours\, or 1.5 CEU’s\nTarget Audience Director Credential Renewal Course\n*Accelerated course
URL:https://elcbigbend.org/event/virtual-workshop-elc-5222-best-practices-in-leadership/
CATEGORIES:Provider Event
END:VEVENT
BEGIN:VEVENT
DTSTART;TZID=UTC:20220510T090000
DTEND;TZID=UTC:20220510T170000
DTSTAMP:20260424T184747
CREATED:20220509T000925Z
LAST-MODIFIED:20220509T000925Z
UID:1158-1652173200-1652202000@elcbigbend.org
SUMMARY:IT RFP Proposer Presentation
DESCRIPTION:ELC HR is inviting you to a scheduled Zoom meeting. \nTopic: IT – RFP Proposer Presentation \nTime: May 10\, 2022\, 09:00 AM Eastern Time (US and Canada) \nMeeting ID: 869 3657 3783 \nPasscode: 989965 \nOne tap mobile \n+13126266799\,\,86936573783#\,\,\,\,*989965# US (Chicago) \n+16465588656\,\,86936573783#\,\,\,\,*989965# US (New York)
URL:https://elcbigbend.org/event/it-rfp-proposer-presentation/
LOCATION:Zoom Webinar
CATEGORIES:Public Meeting
END:VEVENT
BEGIN:VEVENT
DTSTART;TZID=UTC:20220502T180000
DTEND;TZID=UTC:20220502T190000
DTSTAMP:20260424T184747
CREATED:20220430T002326Z
LAST-MODIFIED:20220430T002326Z
UID:1137-1651514400-1651518000@elcbigbend.org
SUMMARY:RFP #2021.2022-0001 Open Meeting
DESCRIPTION:Join Zoom Meeting \nhttps://us02web.zoom.us/j/84582953747?pwd=VVI0em5rYXMrN0pSYm1DVmF6c3dsdz09 \nMeeting ID: 845 8295 3747 \nPasscode: 713321
URL:https://elcbigbend.org/event/rfp-2021-2022-0001-open-meeting/
CATEGORIES:Public Meeting
END:VEVENT
BEGIN:VEVENT
DTSTART;TZID=UTC:20220501T160000
DTEND;TZID=UTC:20220501T190000
DTSTAMP:20260424T184747
CREATED:20220429T220512Z
LAST-MODIFIED:20220430T002118Z
UID:1128-1651420800-1651431600@elcbigbend.org
SUMMARY:RUN ELC: Track to the Future
DESCRIPTION:Run ELC is a charity Race for Readiness in which registrants can participate in either a 5K and/or a 1 Mile Kid fun run or warm up run. This family-friendly community run is hosted by the Early Learning Coalition of the Big Bend Region and is open to all runners\, joggers\, and walkers to enjoy a healthy\, fun-filled event while supporting Early Childhood Education and Early Literacy as our mission is to “Provide leadership and advocacy that builds a community where all children are prepared for success in school. \n*Strollers are permitted on the course. Pets are not permitted. \nREASONABLE ACCOMDATIONS NOTICE: If a person with a disability requires an accommodation to participate\, requests should be made to the event coordinator seventy-two (72) hours prior to the event. \nCOURSE: This is a certified 5K course that has many flat sections with a few slopes and a roundabout. The run will start at Railroad Marketplace and run through the St. Marks trail and back. \nTIME LIMIT: The 5K= 1 hour and 15 minutes and the 1 Mile Fun Run/Warm Up= 25 minutes. Any participant still on the course after the time limit is reached will be asked to vacate the course. \nAWARDS: 1st\, 2nd and 3rd place awards will be given and participation medals will be given to all other runners \nREFUND POLICY: All registrations are final
URL:https://elcbigbend.org/event/run-elc-track-to-the-future/
CATEGORIES:Public Meeting
END:VEVENT
BEGIN:VEVENT
DTSTART;TZID=UTC:20220421T123000
DTEND;TZID=UTC:20220421T133000
DTSTAMP:20260424T184747
CREATED:20220419T174945Z
LAST-MODIFIED:20220419T174945Z
UID:1077-1650544200-1650547800@elcbigbend.org
SUMMARY:Provider Webinar: Car Safety Alarm Reimbursements
DESCRIPTION:Join us to understand the process and requirements to receive reimbursements for your child care vehicle safety alarm. \nWhen: Apr 21\, 2022 12:30 PM Eastern Time (US and Canada) \nRegister in advance for this meeting: \nhttps://us02web.zoom.us/meeting/register/tZApfuyupzMvHdZNE5sjIF-1EOkuF8IFO-7i
URL:https://elcbigbend.org/event/provider-webinar-car-safety-alarm-reimbursements/
LOCATION:Zoom Webinar
CATEGORIES:Provider Event
ORGANIZER;CN="Vincent Palmer%2C Provider Relations Manager":MAILTO:providerrelations@elcbigbend.org
END:VEVENT
BEGIN:VEVENT
DTSTART;TZID=UTC:20220414T090000
DTEND;TZID=UTC:20220414T100000
DTSTAMP:20260424T184747
CREATED:20211015T190759Z
LAST-MODIFIED:20220413T065122Z
UID:519-1649926800-1649930400@elcbigbend.org
SUMMARY:Canceled - Executive Committee Monthly Meeting
DESCRIPTION:
URL:https://elcbigbend.org/event/executive-committee-monthly-meeting-8/
CATEGORIES:Executive Committee,Public Meeting
END:VEVENT
BEGIN:VEVENT
DTSTART;TZID=UTC:20220324T113000
DTEND;TZID=UTC:20220324T130000
DTSTAMP:20260424T184747
CREATED:20211015T045813Z
LAST-MODIFIED:20220118T004312Z
UID:457-1648121400-1648126800@elcbigbend.org
SUMMARY:Board Meeting
DESCRIPTION:
URL:https://elcbigbend.org/event/board-meeting-2/
CATEGORIES:Board of Directors,Public Meeting
END:VEVENT
BEGIN:VEVENT
DTSTART;TZID=UTC:20220317T090000
DTEND;TZID=UTC:20220317T100000
DTSTAMP:20260424T184747
CREATED:20211015T045747Z
LAST-MODIFIED:20220118T004312Z
UID:456-1647507600-1647511200@elcbigbend.org
SUMMARY:Executive Committee Meeting
DESCRIPTION:
URL:https://elcbigbend.org/event/executive-committee-meeting-3/
CATEGORIES:Executive Committee,Public Meeting
END:VEVENT
END:VCALENDAR