BEGIN:VCALENDAR
VERSION:2.0
PRODID:-//Early Learning Coalition of the Big Bend - ECPv6.13.2.1//NONSGML v1.0//EN
CALSCALE:GREGORIAN
METHOD:PUBLISH
X-WR-CALNAME:Early Learning Coalition of the Big Bend
X-ORIGINAL-URL:https://elcbigbend.org
X-WR-CALDESC:Events for Early Learning Coalition of the Big Bend
REFRESH-INTERVAL;VALUE=DURATION:PT1H
X-Robots-Tag:noindex
X-PUBLISHED-TTL:PT1H
BEGIN:VTIMEZONE
TZID:America/New_York
BEGIN:DAYLIGHT
TZOFFSETFROM:-0500
TZOFFSETTO:-0400
TZNAME:EDT
DTSTART:20220313T070000
END:DAYLIGHT
BEGIN:STANDARD
TZOFFSETFROM:-0400
TZOFFSETTO:-0500
TZNAME:EST
DTSTART:20221106T060000
END:STANDARD
BEGIN:DAYLIGHT
TZOFFSETFROM:-0500
TZOFFSETTO:-0400
TZNAME:EDT
DTSTART:20230312T070000
END:DAYLIGHT
BEGIN:STANDARD
TZOFFSETFROM:-0400
TZOFFSETTO:-0500
TZNAME:EST
DTSTART:20231105T060000
END:STANDARD
END:VTIMEZONE
BEGIN:VEVENT
DTSTART;VALUE=DATE:20230228
DTEND;VALUE=DATE:20230331
DTSTAMP:20260424T135914
CREATED:20230202T141005Z
LAST-MODIFIED:20230202T141005Z
UID:1885-1677542400-1680220799@elcbigbend.org
SUMMARY:ELC 37231: The Noisy Paint Box!
DESCRIPTION:10 Hours In-Service\, or 1 CEU\nTarget Audience: Toddlers\, Pre-k\, and VPK Teachers\n\nA course of sounds and colors!  The Noisy Paint Box opens the child’s mind to color exploration and the sounds of color.  From easel painting to collage art\, and music sounds to colorful movement this course will open doors to social studies\, abstract art\, science\, music\, math\, and more.  Based on the book “The Noisy Paint Box” by Barbara Rosenstock Barb Rosenstock
URL:https://elcbigbend.org/event/elc-37231-the-noisy-paint-box/
LOCATION:Zoom Webinar
CATEGORIES:Provider Event
ORGANIZER;CN="Kathy Douglas":MAILTO:kdouglas@elcbigbend.org
END:VEVENT
BEGIN:VEVENT
DTSTART;TZID=America/New_York:20230224T140000
DTEND;TZID=America/New_York:20230224T160000
DTSTAMP:20260424T135914
CREATED:20230215T215157Z
LAST-MODIFIED:20230215T215157Z
UID:1908-1677247200-1677254400@elcbigbend.org
SUMMARY:Fiscal Monitoring Exit Meeting
DESCRIPTION:Please contact governance@elcbigbend.org to request a virtual meeting invite to join this meeting.
URL:https://elcbigbend.org/event/fiscal-monitoring-exit-meeting/
LOCATION:Zoom Webinar
CATEGORIES:Public Meeting
ORGANIZER;CN="Rebecca Gonzalez":MAILTO:RGonzalez@elcbigbend.org
END:VEVENT
BEGIN:VEVENT
DTSTART;TZID=America/New_York:20230216T100000
DTEND;TZID=America/New_York:20230216T110000
DTSTAMP:20260424T135914
CREATED:20230215T215110Z
LAST-MODIFIED:20230215T215110Z
UID:1906-1676541600-1676545200@elcbigbend.org
SUMMARY:Executive Committee Meeting
DESCRIPTION:Please contact governance@elcbigbend.org to request a virtual meeting invite to join this meeting.
URL:https://elcbigbend.org/event/executive-committee-meeting-12/
LOCATION:Zoom Webinar
CATEGORIES:Executive Committee,Public Meeting
ORGANIZER;CN="Rebecca Gonzalez":MAILTO:RGonzalez@elcbigbend.org
END:VEVENT
BEGIN:VEVENT
DTSTART;TZID=America/New_York:20230126T113000
DTEND;TZID=America/New_York:20230126T130000
DTSTAMP:20260424T135914
CREATED:20221004T191107Z
LAST-MODIFIED:20221004T191107Z
UID:1655-1674732600-1674738000@elcbigbend.org
SUMMARY:Board Meeting
DESCRIPTION:Please contact governance@elcbigbend.org for access to join the meeting.
URL:https://elcbigbend.org/event/board-meeting-5/
LOCATION:Zoom Webinar
CATEGORIES:Board of Directors
ORGANIZER;CN="Rebecca Gonzalez":MAILTO:RGonzalez@elcbigbend.org
END:VEVENT
BEGIN:VEVENT
DTSTART;TZID=America/New_York:20230119T100000
DTEND;TZID=America/New_York:20230119T110000
DTSTAMP:20260424T135914
CREATED:20221004T191036Z
LAST-MODIFIED:20221004T191036Z
UID:1653-1674122400-1674126000@elcbigbend.org
SUMMARY:Executive Committee Meeting
DESCRIPTION:Please contact governance@elcbigbend.org for access to join the meeting.
URL:https://elcbigbend.org/event/executive-committee-meeting-10/
LOCATION:Zoom Webinar
CATEGORIES:Executive Committee
ORGANIZER;CN="Rebecca Gonzalez":MAILTO:RGonzalez@elcbigbend.org
END:VEVENT
BEGIN:VEVENT
DTSTART;TZID=America/New_York:20230112T100000
DTEND;TZID=America/New_York:20230112T110000
DTSTAMP:20260424T135914
CREATED:20221004T190959Z
LAST-MODIFIED:20230112T144125Z
UID:1651-1673517600-1673521200@elcbigbend.org
SUMMARY:Ad Hoc Committee Meeting
DESCRIPTION:Please contact governance@elcbigbend.org for access to join the meeting.
URL:https://elcbigbend.org/event/audit-committee-meeting-3/
LOCATION:Zoom Webinar
CATEGORIES:Ad Hoc Committee
ORGANIZER;CN="Rebecca Gonzalez":MAILTO:RGonzalez@elcbigbend.org
END:VEVENT
BEGIN:VEVENT
DTSTART;TZID=America/New_York:20230110T113000
DTEND;TZID=America/New_York:20230110T123000
DTSTAMP:20260424T135914
CREATED:20221004T190925Z
LAST-MODIFIED:20221004T190925Z
UID:1649-1673350200-1673353800@elcbigbend.org
SUMMARY:Finance Committee Meeting
DESCRIPTION:Please contact governance@elcbigbend.org for access to join the meeting.
URL:https://elcbigbend.org/event/finance-committee-meeting-7/
LOCATION:Zoom Webinar
CATEGORIES:Finance Committee,Public Meeting
ORGANIZER;CN="Rebecca Gonzalez":MAILTO:RGonzalez@elcbigbend.org
END:VEVENT
BEGIN:VEVENT
DTSTART;TZID=America/New_York:20230105T100000
DTEND;TZID=America/New_York:20230105T110000
DTSTAMP:20260424T135914
CREATED:20221004T190835Z
LAST-MODIFIED:20221004T190835Z
UID:1647-1672912800-1672916400@elcbigbend.org
SUMMARY:Program\, Policy\, and Strategy Committee
DESCRIPTION:Please contact governance@elcbigbend.org for access to join the meeting.
URL:https://elcbigbend.org/event/program-policy-and-strategy-committee/
LOCATION:Zoom Webinar
CATEGORIES:Program Policy Committee,Public Meeting
ORGANIZER;CN="Rebecca Gonzalez":MAILTO:RGonzalez@elcbigbend.org
END:VEVENT
BEGIN:VEVENT
DTSTART;TZID=America/New_York:20221213T150000
DTEND;TZID=America/New_York:20221213T163000
DTSTAMP:20260424T135914
CREATED:20221213T195224Z
LAST-MODIFIED:20221213T195244Z
UID:1789-1670943600-1670949000@elcbigbend.org
SUMMARY:Cocoa\, Cookies\, and Connect
DESCRIPTION:Connect over cocoa and cookies with ELC Staff and Board Members
URL:https://elcbigbend.org/event/cocoa-cookies-and-connect/
CATEGORIES:Public Meeting
END:VEVENT
BEGIN:VEVENT
DTSTART;TZID=America/New_York:20221207T140000
DTEND;TZID=America/New_York:20221207T150000
DTSTAMP:20260424T135914
CREATED:20221207T155025Z
LAST-MODIFIED:20221207T155037Z
UID:1782-1670421600-1670425200@elcbigbend.org
SUMMARY:Education Session - COLA
DESCRIPTION:Please contact Rebecca Gonzalez for more information on this meeting by clicking here. 
URL:https://elcbigbend.org/event/education-session-cola-2/
LOCATION:Zoom Webinar
ORGANIZER;CN="Rebecca Gonzalez":MAILTO:RGonzalez@elcbigbend.org
END:VEVENT
BEGIN:VEVENT
DTSTART;TZID=America/New_York:20221207T140000
DTEND;TZID=America/New_York:20221207T150000
DTSTAMP:20260424T135914
CREATED:20221207T045821Z
LAST-MODIFIED:20221207T045821Z
UID:1778-1670421600-1670425200@elcbigbend.org
SUMMARY:Education Session – COLA
DESCRIPTION:
URL:https://elcbigbend.org/event/education-session-cola/
LOCATION:Zoom Webinar
CATEGORIES:Public Meeting
ORGANIZER;CN="Rebecca Gonzalez":MAILTO:RGonzalez@elcbigbend.org
END:VEVENT
BEGIN:VEVENT
DTSTART;VALUE=DATE:20221118
DTEND;VALUE=DATE:20221209
DTSTAMP:20260424T135914
CREATED:20221116T185414Z
LAST-MODIFIED:20221116T185414Z
UID:1739-1668729600-1670543999@elcbigbend.org
SUMMARY:ELC 22122: Keys to Successful Classroom Management
DESCRIPTION:Classroom management and guidance are among the most challenging issues that teachers discuss. This course demonstrates 10 specific methods to help promote pro-social behavior and create a positive classroom environment. The course builds on kindness\, respect\, responsibility\, and cooperation while keeping in mind activities and learning. \nTo register\, click here. 
URL:https://elcbigbend.org/event/elc-22122-keys-to-successful-classroom-management/
LOCATION:Zoom Webinar
CATEGORIES:Provider Event
ORGANIZER;CN="Kathy Douglas":MAILTO:kdouglas@elcbigbend.org
END:VEVENT
BEGIN:VEVENT
DTSTART;TZID=America/New_York:20221103T113000
DTEND;TZID=America/New_York:20221103T130000
DTSTAMP:20260424T135914
CREATED:20221004T190517Z
LAST-MODIFIED:20221004T190517Z
UID:1645-1667475000-1667480400@elcbigbend.org
SUMMARY:Board Meeting
DESCRIPTION:Please contact governance@elcbigbend.org for access to join the meeting.
URL:https://elcbigbend.org/event/board-meeting-4/
LOCATION:Zoom Webinar
CATEGORIES:Board of Directors,Public Meeting
ORGANIZER;CN="Rebecca Gonzalez":MAILTO:RGonzalez@elcbigbend.org
END:VEVENT
BEGIN:VEVENT
DTSTART;TZID=America/New_York:20221102T103000
DTEND;TZID=America/New_York:20221102T120000
DTSTAMP:20260424T135914
CREATED:20221101T183254Z
LAST-MODIFIED:20221101T183254Z
UID:1708-1667385000-1667390400@elcbigbend.org
SUMMARY:ELC Board Member Orientation
DESCRIPTION:
URL:https://elcbigbend.org/event/elc-board-member-orientation/
LOCATION:Zoom Webinar
CATEGORIES:Board of Directors
END:VEVENT
BEGIN:VEVENT
DTSTART;TZID=America/New_York:20221030T160000
DTEND;TZID=America/New_York:20221030T180000
DTSTAMP:20260424T135914
CREATED:20220929T162850Z
LAST-MODIFIED:20220929T162850Z
UID:1635-1667145600-1667152800@elcbigbend.org
SUMMARY:FBCQ Fall Festival
DESCRIPTION:All are welcome to join us outside at the barn for food\, games\, and fun!
URL:https://elcbigbend.org/event/fbcq-fall-festival/
CATEGORIES:Community Event
END:VEVENT
BEGIN:VEVENT
DTSTART;TZID=America/New_York:20221029T170000
DTEND;TZID=America/New_York:20221029T200000
DTSTAMP:20260424T135914
CREATED:20220929T162750Z
LAST-MODIFIED:20220929T163245Z
UID:1633-1667062800-1667073600@elcbigbend.org
SUMMARY:Halloween Hayride at Rolling Hills Ranch
DESCRIPTION:We are now reserving spots for our annual Halloween Hayride! On October 28th\, 29th\, and 30th from 5pm-8pm. You and your little ones can come out for a fun and spooky experience that your kids are guaranteed to love. Activities include feeding hay to our lovely horses\, pony and horse rides\, hayrides throughout the whole event\, and a costume contest with a prize of a $200 gift certificate for a birthday party at Rolling Hills Ranch! Candy will be passed out throughout the night by our very own pony in her unicorn costume.\nCost is $10 for adults and $5 for children under 13. \nTo reserve your spot to make sure you get in\, call or text Lucy at 850-570-3026. We accept Venmo\, Cashapp\, Zelle\, or you can drop by the ranch with cash or check. You can pay at the gate but if we reach capacity we will unfortunately have to turn you away or we can take down your phone number and give you a call when guests leave. \n 
URL:https://elcbigbend.org/event/halloween-hayride-at-rolling-hills-ranch/
CATEGORIES:Community Event
END:VEVENT
BEGIN:VEVENT
DTSTART;TZID=America/New_York:20221029T150000
DTEND;TZID=America/New_York:20221029T220000
DTSTAMP:20260424T135914
CREATED:20220929T162637Z
LAST-MODIFIED:20220929T162637Z
UID:1631-1667055600-1667080800@elcbigbend.org
SUMMARY:Halloweekend in Monticello
DESCRIPTION:Join the Historic Monticello Ghost Tours for a Weekend of Spooky Events! Stories! Magic! Parades! Historic Tours! Packages available for every budget!
URL:https://elcbigbend.org/event/halloweekend-in-monticello/
CATEGORIES:Community Event
END:VEVENT
BEGIN:VEVENT
DTSTART;TZID=America/New_York:20221029T120000
DTEND;TZID=America/New_York:20221029T160000
DTSTAMP:20260424T135914
CREATED:20220929T162550Z
LAST-MODIFIED:20220929T162550Z
UID:1629-1667044800-1667059200@elcbigbend.org
SUMMARY:Truck Or Treat at Harley Davidson
DESCRIPTION:Come Truck or Treat with us! C.M.A. will be serving up food. Jared Walker will be signing your favorite songs. There will be games and prizes and so much fun! We will have a Costume Contest\, LOTS of Candy and much more!
URL:https://elcbigbend.org/event/truck-or-treat-at-harley-davidson/
CATEGORIES:Community Event
END:VEVENT
BEGIN:VEVENT
DTSTART;TZID=America/New_York:20221022T180000
DTEND;TZID=America/New_York:20221022T193000
DTSTAMP:20260424T135914
CREATED:20220929T162432Z
LAST-MODIFIED:20220929T162432Z
UID:1627-1666461600-1666467000@elcbigbend.org
SUMMARY:Trunk or Treat at Tiger Rock
DESCRIPTION:Your family will have a great time with our annual Trunk or Treat FREE event! \nKids will get to play games\, show off their costumes\, trick or treat and have the chance to win awesome prizes! \nFREE EVENT! \nYour entire family is welcome! \nCome enjoy games\, candy and prizes! \n* This is a great time for your child to show off their Halloween costume!
URL:https://elcbigbend.org/event/trunk-or-treat-at-tiger-rock/
CATEGORIES:Community Event
END:VEVENT
BEGIN:VEVENT
DTSTART;TZID=America/New_York:20221022T160000
DTEND;TZID=America/New_York:20221022T180000
DTSTAMP:20260424T135914
CREATED:20220929T162328Z
LAST-MODIFIED:20220929T162328Z
UID:1625-1666454400-1666461600@elcbigbend.org
SUMMARY:Trunk or Treat at Good Samaritan UMC
DESCRIPTION:Join us for this year’s Trunk-or-Treating at Good Samaritan UMC. Whether you participate by trunk or treating or hosting a trunk\, this event is a fun experience for everyone! Costumes are encouraged!
URL:https://elcbigbend.org/event/trunk-or-treat-at-good-samaritan-umc/
CATEGORIES:Community Event
END:VEVENT
BEGIN:VEVENT
DTSTART;TZID=America/New_York:20221022T100000
DTEND;TZID=America/New_York:20221022T140000
DTSTAMP:20260424T135914
CREATED:20220929T162231Z
LAST-MODIFIED:20220929T162231Z
UID:1623-1666432800-1666447200@elcbigbend.org
SUMMARY:11th Annual Tallahassee Science Festival
DESCRIPTION:With a heavy focus on S.T.E.M. (Science\, Technology\, Engineering\, and Math)\, booths will feature activities and exhibits driven by problem-solving and creative thinking. The Tallahassee Science Festival promises to be a fun and dynamic learning experience for the entire community. \nThis annual event is an incredible hands-on experience for children of all ages. Last year there were over 115 exhibits representing many local prominent scientific organizations and clubs including the National Magnetic Lab\, Florida A&M\, FSU\, Tallahassee Community College\, The State of Florida\, Leon County\, The City of Tallahassee\, and many local STEM-based organizations. Presenters came from as far away as Gainesville\, Tampa\, and Pensacola.
URL:https://elcbigbend.org/event/11th-annual-tallahassee-science-festival/
CATEGORIES:Community Event
END:VEVENT
BEGIN:VEVENT
DTSTART;TZID=America/New_York:20221022T080000
DTEND;TZID=America/New_York:20221022T180000
DTSTAMP:20260424T135914
CREATED:20220929T160739Z
LAST-MODIFIED:20220929T160739Z
UID:1607-1666425600-1666461600@elcbigbend.org
SUMMARY:Florida Forest Festival
DESCRIPTION:The 67th Annual Florida Forest Festival. World’s Largest FREE fish fry\, lumberjack shows and competitions\, King Tree Parade\, Equipment Show\, Military Vehicle Show\, Classic Car Show\, hundreds of arts and craft vendors and more!
URL:https://elcbigbend.org/event/florida-forest-festival/
CATEGORIES:Community Event
END:VEVENT
BEGIN:VEVENT
DTSTART;TZID=America/New_York:20221020T100000
DTEND;TZID=America/New_York:20221020T110000
DTSTAMP:20260424T135914
CREATED:20221004T190438Z
LAST-MODIFIED:20221004T190438Z
UID:1643-1666260000-1666263600@elcbigbend.org
SUMMARY:Executive Committee Meeting
DESCRIPTION:Please contact governance@elcbigbend.org for access to join the meeting.
URL:https://elcbigbend.org/event/executive-committee-meeting-9/
LOCATION:Zoom Webinar
CATEGORIES:Executive Committee,Public Meeting
ORGANIZER;CN="Rebecca Gonzalez":MAILTO:RGonzalez@elcbigbend.org
END:VEVENT
BEGIN:VEVENT
DTSTART;TZID=America/New_York:20221015T160000
DTEND;TZID=America/New_York:20221015T200000
DTSTAMP:20260424T135914
CREATED:20220929T162118Z
LAST-MODIFIED:20220929T162118Z
UID:1621-1665849600-1665864000@elcbigbend.org
SUMMARY:Boo Bash
DESCRIPTION:Join us for some safe Halloween fun! This festive family event will consist of a variety of activities such as Games\, Trick or Treating\, Costume Contest\, Music\, Bounce Houses\, and Much More! \nThis event is free and open to the public. \nCostumes are encouraged!!\nFor more information\, Text BOO BASH to 850-325-0930
URL:https://elcbigbend.org/event/boo-bash/
CATEGORIES:Community Event
END:VEVENT
BEGIN:VEVENT
DTSTART;TZID=America/New_York:20221015T110000
DTEND;TZID=America/New_York:20221015T140000
DTSTAMP:20260424T135914
CREATED:20220929T161948Z
LAST-MODIFIED:20220929T161948Z
UID:1619-1665831600-1665842400@elcbigbend.org
SUMMARY:Fort Braden Community Pumpkin Patch & Fish Fry
DESCRIPTION:Come join us to celebrate Fort Braden’s 3rd Annual Fort Braden Community Pumpkin Patch & Fish Fry.\nEvent Activities include:\n– Pumpkin Patch ($7 suggested donation)\n– Fish Fry: includes fish\, side\, and dessert ($8 suggested donation)\n– Crazy 8 Horse Ranch\, Horse Rides\n– Face Painting\n– LTVFD Fire Truck Tours + Goodie Bags\n– Scarecrow Contest\n– Cheer Routine\n– Photo Booth\n– Other activities
URL:https://elcbigbend.org/event/fort-braden-community-pumpkin-patch-fish-fry/
CATEGORIES:Community Event
END:VEVENT
BEGIN:VEVENT
DTSTART;TZID=America/New_York:20221014T140000
DTEND;TZID=America/New_York:20221014T180000
DTSTAMP:20260424T135914
CREATED:20220929T162945Z
LAST-MODIFIED:20220929T162945Z
UID:1637-1665756000-1665770400@elcbigbend.org
SUMMARY:TCF-Town Get Down
DESCRIPTION:Come one\, come all to our fall carnival! Kickoff your football weekend with a bounce house\, dunk tank\, carnival games\, hot dog stand\, snow cones\, and more! Don’t miss this free\, family-friendly event to celebrate TC Federal Bank’s Tallahassee Branch 5 year anniversary!
URL:https://elcbigbend.org/event/tcf-town-get-down/
CATEGORIES:Community Event
END:VEVENT
BEGIN:VEVENT
DTSTART;TZID=America/New_York:20221011T100000
DTEND;TZID=America/New_York:20221011T110000
DTSTAMP:20260424T135914
CREATED:20221004T190317Z
LAST-MODIFIED:20221004T190317Z
UID:1641-1665482400-1665486000@elcbigbend.org
SUMMARY:Finance Committee Meeting
DESCRIPTION:Please contact governance@elcbigbend.org for access to join the meeting.
URL:https://elcbigbend.org/event/finance-committee-meeting-6/
LOCATION:Zoom Webinar
CATEGORIES:Finance Committee,Public Meeting
ORGANIZER;CN="Rebecca Gonzalez":MAILTO:RGonzalez@elcbigbend.org
END:VEVENT
BEGIN:VEVENT
DTSTART;TZID=America/New_York:20221008T110000
DTEND;TZID=America/New_York:20221008T150000
DTSTAMP:20260424T135914
CREATED:20220929T161744Z
LAST-MODIFIED:20220929T161744Z
UID:1617-1665226800-1665241200@elcbigbend.org
SUMMARY:Free Public Run Day: Veterans Memorial Railroad
DESCRIPTION:Come Ride Our Train!\nA Free Public Run Day held monthly (March – November) on the second Saturday. \nTime: 11:00 A.M. – 3:00 P.M. EST Donations greatly appreciated. \nVeterans Memorial Park offers amenities for families: a nice playground\, a large covered picnic pavilion\, one mile of a paved walking trail\, all of which can be enjoyed at any time of the year.
URL:https://elcbigbend.org/event/free-public-run-day-veterans-memorial-railroad/
CATEGORIES:Community Event
END:VEVENT
BEGIN:VEVENT
DTSTART;TZID=America/New_York:20221008T100000
DTEND;TZID=America/New_York:20221008T160000
DTSTAMP:20260424T135914
CREATED:20220929T161549Z
LAST-MODIFIED:20220929T161549Z
UID:1615-1665223200-1665244800@elcbigbend.org
SUMMARY:Havana PumpkinFest
DESCRIPTION:Come join the fun – pumpkin decorating\, arts & crafts\, vendors & food trucks\, pony rides\, petting zoo\, face painting\, and much more!\nCostume Contest at 12pm\, Pet Costume Contest at 11am.\nAdmission is $3 for adults and $2 for kids\nThere is an additional fee for all rides and activities.
URL:https://elcbigbend.org/event/havana-pumpkinfest/
CATEGORIES:Community Event
END:VEVENT
BEGIN:VEVENT
DTSTART;TZID=America/New_York:20221006T100000
DTEND;TZID=America/New_York:20221006T110000
DTSTAMP:20260424T135914
CREATED:20221004T190218Z
LAST-MODIFIED:20221004T190218Z
UID:1639-1665050400-1665054000@elcbigbend.org
SUMMARY:Program\, Policy\, and Strategy Committee Meeting
DESCRIPTION:Please contact governance@elcbigbend.org for access to join the meeting.
URL:https://elcbigbend.org/event/program-policy-and-strategy-committee-meeting-2/
LOCATION:Zoom Webinar
CATEGORIES:Program Policy Committee,Public Meeting
ORGANIZER;CN="Rebecca Gonzalez":MAILTO:RGonzalez@elcbigbend.org
END:VEVENT
END:VCALENDAR