BEGIN:VCALENDAR
VERSION:2.0
PRODID:-//Early Learning Coalition of the Big Bend - ECPv6.13.2.1//NONSGML v1.0//EN
CALSCALE:GREGORIAN
METHOD:PUBLISH
X-ORIGINAL-URL:https://elcbigbend.org
X-WR-CALDESC:Events for Early Learning Coalition of the Big Bend
REFRESH-INTERVAL;VALUE=DURATION:PT1H
X-Robots-Tag:noindex
X-PUBLISHED-TTL:PT1H
BEGIN:VTIMEZONE
TZID:America/New_York
BEGIN:DAYLIGHT
TZOFFSETFROM:-0500
TZOFFSETTO:-0400
TZNAME:EDT
DTSTART:20220313T070000
END:DAYLIGHT
BEGIN:STANDARD
TZOFFSETFROM:-0400
TZOFFSETTO:-0500
TZNAME:EST
DTSTART:20221106T060000
END:STANDARD
BEGIN:DAYLIGHT
TZOFFSETFROM:-0500
TZOFFSETTO:-0400
TZNAME:EDT
DTSTART:20230312T070000
END:DAYLIGHT
BEGIN:STANDARD
TZOFFSETFROM:-0400
TZOFFSETTO:-0500
TZNAME:EST
DTSTART:20231105T060000
END:STANDARD
BEGIN:DAYLIGHT
TZOFFSETFROM:-0500
TZOFFSETTO:-0400
TZNAME:EDT
DTSTART:20240310T070000
END:DAYLIGHT
BEGIN:STANDARD
TZOFFSETFROM:-0400
TZOFFSETTO:-0500
TZNAME:EST
DTSTART:20241103T060000
END:STANDARD
BEGIN:DAYLIGHT
TZOFFSETFROM:-0500
TZOFFSETTO:-0400
TZNAME:EDT
DTSTART:20250309T070000
END:DAYLIGHT
BEGIN:STANDARD
TZOFFSETFROM:-0400
TZOFFSETTO:-0500
TZNAME:EST
DTSTART:20251102T060000
END:STANDARD
BEGIN:DAYLIGHT
TZOFFSETFROM:-0500
TZOFFSETTO:-0400
TZNAME:EDT
DTSTART:20260308T070000
END:DAYLIGHT
BEGIN:STANDARD
TZOFFSETFROM:-0400
TZOFFSETTO:-0500
TZNAME:EST
DTSTART:20261101T060000
END:STANDARD
END:VTIMEZONE
BEGIN:VTIMEZONE
TZID:UTC
BEGIN:STANDARD
TZOFFSETFROM:+0000
TZOFFSETTO:+0000
TZNAME:UTC
DTSTART:20210101T000000
END:STANDARD
END:VTIMEZONE
BEGIN:VEVENT
DTSTART;TZID=America/New_York:20260416T110000
DTEND;TZID=America/New_York:20260416T120000
DTSTAMP:20260423T163338
CREATED:20260416T124943Z
LAST-MODIFIED:20260416T124943Z
UID:4385-1776337200-1776340800@elcbigbend.org
SUMMARY:Finance Committee Meeting
DESCRIPTION:Please contact governance@elcbigbend.org to receive Zoom link information to attend this meeting.
URL:https://elcbigbend.org/event/finance-committee-meeting-14/
LOCATION:Zoom Webinar
CATEGORIES:Finance Committee
ORGANIZER;CN="Rebecca Gonzalez":MAILTO:RGonzalez@elcbigbend.org
END:VEVENT
BEGIN:VEVENT
DTSTART;TZID=America/New_York:20260115T110000
DTEND;TZID=America/New_York:20260115T120000
DTSTAMP:20260423T163338
CREATED:20260115T144556Z
LAST-MODIFIED:20260115T144703Z
UID:4211-1768474800-1768478400@elcbigbend.org
SUMMARY:Finance Committee Meeting
DESCRIPTION:For information on how to view this meeting via zoom\, please email Rebecca Gonzalez at governance@elcbigbend.org to receive an invitation link.
URL:https://elcbigbend.org/event/elc-finance-committee-meeting-6/
LOCATION:Zoom Webinar
CATEGORIES:Finance Committee
ORGANIZER;CN="Rebecca Gonzalez":MAILTO:RGonzalez@elcbigbend.org
END:VEVENT
BEGIN:VEVENT
DTSTART;TZID=America/New_York:20251016T110000
DTEND;TZID=America/New_York:20251016T120000
DTSTAMP:20260423T163338
CREATED:20251016T134308Z
LAST-MODIFIED:20251016T134308Z
UID:4077-1760612400-1760616000@elcbigbend.org
SUMMARY:ELC Finance Committee Meeting
DESCRIPTION:For information on how to view this meeting via zoom\, please email Rebecca Gonzalez at governance@elcbigbend.org to receive an invitation link.
URL:https://elcbigbend.org/event/elc-finance-committee-meeting-5/
LOCATION:Zoom Webinar
CATEGORIES:Finance Committee
ORGANIZER;CN="Rebecca Gonzalez":MAILTO:RGonzalez@elcbigbend.org
END:VEVENT
BEGIN:VEVENT
DTSTART;TZID=America/New_York:20250722T100000
DTEND;TZID=America/New_York:20250722T110000
DTSTAMP:20260423T163338
CREATED:20250721T120557Z
LAST-MODIFIED:20250722T150620Z
UID:3886-1753178400-1753182000@elcbigbend.org
SUMMARY:Finance Committee Meeting
DESCRIPTION:For information on how to view this meeting via zoom\, please email Rebecca Gonzalez at governance@elcbigbend.org to receive an invitation link.
URL:https://elcbigbend.org/event/finance-committee-meeting-13/
LOCATION:Zoom Webinar
CATEGORIES:Finance Committee
ORGANIZER;CN="Rebecca Gonzalez":MAILTO:RGonzalez@elcbigbend.org
END:VEVENT
BEGIN:VEVENT
DTSTART;TZID=America/New_York:20250422T100000
DTEND;TZID=America/New_York:20250422T110000
DTSTAMP:20260423T163338
CREATED:20250422T134122Z
LAST-MODIFIED:20250422T134122Z
UID:3715-1745316000-1745319600@elcbigbend.org
SUMMARY:ELC Finance Committee Meeting
DESCRIPTION:For information on how to view this meeting via zoom\, please email Rebecca Gonzalez at governance@elcbigbend.org to receive an invitation link.
URL:https://elcbigbend.org/event/elc-finance-committee-meeting-4/
LOCATION:Zoom Webinar
CATEGORIES:Finance Committee
ORGANIZER;CN="Rebecca Gonzalez":MAILTO:RGonzalez@elcbigbend.org
END:VEVENT
BEGIN:VEVENT
DTSTART;TZID=America/New_York:20250121T100000
DTEND;TZID=America/New_York:20250121T110000
DTSTAMP:20260423T163338
CREATED:20250121T142248Z
LAST-MODIFIED:20250121T142248Z
UID:3517-1737453600-1737457200@elcbigbend.org
SUMMARY:Finance Committee Meeting
DESCRIPTION:For information on how to view this meeting via zoom\, please email Rebecca Gonzalez at governance@elcbigbend.org to receive an invitation link.
URL:https://elcbigbend.org/event/finance-committee-meeting-12/
LOCATION:Zoom Webinar
CATEGORIES:Finance Committee
ORGANIZER;CN="Rebecca Gonzalez":MAILTO:RGonzalez@elcbigbend.org
END:VEVENT
BEGIN:VEVENT
DTSTART;TZID=America/New_York:20241010T100000
DTEND;TZID=America/New_York:20241010T110000
DTSTAMP:20260423T163338
CREATED:20241007T154505Z
LAST-MODIFIED:20241007T154505Z
UID:3300-1728554400-1728558000@elcbigbend.org
SUMMARY:ELC Finance Committee Meeting
DESCRIPTION:For information on how to view this meeting via zoom\, please email Rebecca Gonzalez at governance@elcbigbend.org to receive an invitation link.
URL:https://elcbigbend.org/event/elc-finance-committee-meeting-3/
LOCATION:Zoom Webinar
CATEGORIES:Finance Committee
ORGANIZER;CN="Rebecca Gonzalez":MAILTO:RGonzalez@elcbigbend.org
END:VEVENT
BEGIN:VEVENT
DTSTART;TZID=America/New_York:20240711T140000
DTEND;TZID=America/New_York:20240711T150000
DTSTAMP:20260423T163338
CREATED:20240710T235812Z
LAST-MODIFIED:20240710T235812Z
UID:3145-1720706400-1720710000@elcbigbend.org
SUMMARY:ELC Finance Committee Meeting
DESCRIPTION:For information on how to view this meeting via zoom\, please email Rebecca Gonzalez at governance@elcbigbend.org to receive an invitation link.
URL:https://elcbigbend.org/event/elc-finance-committee-meeting-2/
LOCATION:Zoom Webinar
CATEGORIES:Finance Committee
ORGANIZER;CN="Rebecca Gonzalez":MAILTO:RGonzalez@elcbigbend.org
END:VEVENT
BEGIN:VEVENT
DTSTART;TZID=America/New_York:20240411T140000
DTEND;TZID=America/New_York:20240411T150000
DTSTAMP:20260423T163338
CREATED:20240409T144623Z
LAST-MODIFIED:20240409T144623Z
UID:2811-1712844000-1712847600@elcbigbend.org
SUMMARY:Finance Committee Meeting
DESCRIPTION:For information on how to view this meeting via zoom\, please email Rebecca Gonzalez at governance@elcbigbend.org to receive an invitation link.
URL:https://elcbigbend.org/event/finance-committee-meeting-11/
LOCATION:Zoom Webinar
CATEGORIES:Finance Committee
ORGANIZER;CN="Rebecca Gonzalez":MAILTO:RGonzalez@elcbigbend.org
END:VEVENT
BEGIN:VEVENT
DTSTART;TZID=America/New_York:20240111T140000
DTEND;TZID=America/New_York:20240111T150000
DTSTAMP:20260423T163338
CREATED:20240111T150557Z
LAST-MODIFIED:20240111T150629Z
UID:2635-1704981600-1704985200@elcbigbend.org
SUMMARY:Finance Committee Meeting
DESCRIPTION:For information on how to view this meeting via zoom\, please email Rebecca Gonzalez at governance@elcbigbend.org to receive an invitation link.
URL:https://elcbigbend.org/event/elc-finance-committee-meeting/
LOCATION:Zoom Webinar
CATEGORIES:Finance Committee
ORGANIZER;CN="Rebecca Gonzalez":MAILTO:RGonzalez@elcbigbend.org
END:VEVENT
BEGIN:VEVENT
DTSTART;TZID=America/New_York:20230711T110000
DTEND;TZID=America/New_York:20230711T120000
DTSTAMP:20260423T163338
CREATED:20230705T135801Z
LAST-MODIFIED:20230705T135801Z
UID:2230-1689073200-1689076800@elcbigbend.org
SUMMARY:Finance Committee Meeting
DESCRIPTION:
URL:https://elcbigbend.org/event/finance-committee-meeting-9/
LOCATION:Zoom Webinar
CATEGORIES:Finance Committee
ORGANIZER;CN="Rebecca Gonzalez":MAILTO:RGonzalez@elcbigbend.org
END:VEVENT
BEGIN:VEVENT
DTSTART;TZID=America/New_York:20230411T100000
DTEND;TZID=America/New_York:20230411T110000
DTSTAMP:20260423T163338
CREATED:20221004T191402Z
LAST-MODIFIED:20221004T191402Z
UID:1661-1681207200-1681210800@elcbigbend.org
SUMMARY:Finance Committee Meeting
DESCRIPTION:Please contact governance@elcbigbend.org for access to join the meeting.
URL:https://elcbigbend.org/event/finance-committee-meeting-8/
LOCATION:Zoom Webinar
CATEGORIES:Finance Committee
ORGANIZER;CN="Rebecca Gonzalez":MAILTO:RGonzalez@elcbigbend.org
END:VEVENT
BEGIN:VEVENT
DTSTART;TZID=America/New_York:20230110T113000
DTEND;TZID=America/New_York:20230110T123000
DTSTAMP:20260423T163338
CREATED:20221004T190925Z
LAST-MODIFIED:20221004T190925Z
UID:1649-1673350200-1673353800@elcbigbend.org
SUMMARY:Finance Committee Meeting
DESCRIPTION:Please contact governance@elcbigbend.org for access to join the meeting.
URL:https://elcbigbend.org/event/finance-committee-meeting-7/
LOCATION:Zoom Webinar
CATEGORIES:Finance Committee,Public Meeting
ORGANIZER;CN="Rebecca Gonzalez":MAILTO:RGonzalez@elcbigbend.org
END:VEVENT
BEGIN:VEVENT
DTSTART;TZID=America/New_York:20221011T100000
DTEND;TZID=America/New_York:20221011T110000
DTSTAMP:20260423T163338
CREATED:20221004T190317Z
LAST-MODIFIED:20221004T190317Z
UID:1641-1665482400-1665486000@elcbigbend.org
SUMMARY:Finance Committee Meeting
DESCRIPTION:Please contact governance@elcbigbend.org for access to join the meeting.
URL:https://elcbigbend.org/event/finance-committee-meeting-6/
LOCATION:Zoom Webinar
CATEGORIES:Finance Committee,Public Meeting
ORGANIZER;CN="Rebecca Gonzalez":MAILTO:RGonzalez@elcbigbend.org
END:VEVENT
BEGIN:VEVENT
DTSTART;TZID=America/New_York:20220906T100000
DTEND;TZID=America/New_York:20220906T110000
DTSTAMP:20260423T163338
CREATED:20220811T010507Z
LAST-MODIFIED:20220811T010507Z
UID:1431-1662458400-1662462000@elcbigbend.org
SUMMARY:Finance Committee Meeting
DESCRIPTION:
URL:https://elcbigbend.org/event/finance-committee-meeting-5/
LOCATION:Zoom Webinar
CATEGORIES:Finance Committee
ORGANIZER;CN="Rebecca Gonzalez":MAILTO:RGonzalez@elcbigbend.org
END:VEVENT
BEGIN:VEVENT
DTSTART;TZID=UTC:20220607T090000
DTEND;TZID=UTC:20220607T100000
DTSTAMP:20260423T163338
CREATED:20211015T045900Z
LAST-MODIFIED:20220118T004311Z
UID:459-1654592400-1654596000@elcbigbend.org
SUMMARY:Finance Committee Meeting
DESCRIPTION:
URL:https://elcbigbend.org/event/finance-committee-meeting-4/
CATEGORIES:Finance Committee,Public Meeting
END:VEVENT
BEGIN:VEVENT
DTSTART;TZID=UTC:20220308T090000
DTEND;TZID=UTC:20220308T100000
DTSTAMP:20260423T163338
CREATED:20211015T045610Z
LAST-MODIFIED:20220118T004312Z
UID:455-1646730000-1646733600@elcbigbend.org
SUMMARY:Finance Committee Meeting
DESCRIPTION:
URL:https://elcbigbend.org/event/finance-committee-meeting-3/
CATEGORIES:Finance Committee,Public Meeting
END:VEVENT
BEGIN:VEVENT
DTSTART;TZID=UTC:20211207T090000
DTEND;TZID=UTC:20211207T100000
DTSTAMP:20260423T163338
CREATED:20211015T045442Z
LAST-MODIFIED:20220118T004312Z
UID:452-1638867600-1638871200@elcbigbend.org
SUMMARY:Finance Committee Meeting
DESCRIPTION:
URL:https://elcbigbend.org/event/finance-committee-meeting-2/
CATEGORIES:Finance Committee,Public Meeting
END:VEVENT
BEGIN:VEVENT
DTSTART;TZID=UTC:20210914T090000
DTEND;TZID=UTC:20210914T100000
DTSTAMP:20260423T163338
CREATED:20211007T175605Z
LAST-MODIFIED:20211007T193702Z
UID:345-1631610000-1631613600@elcbigbend.org
SUMMARY:Finance Committee Meeting
DESCRIPTION:This meeting is open to the public and will be held virtually via Zoom. \nFor meeting details\, please contact governance@elcbigbend.org or call (850) 901-7177
URL:https://elcbigbend.org/event/finance-committee-meeting/
CATEGORIES:Finance Committee,Public Meeting
END:VEVENT
END:VCALENDAR