BEGIN:VCALENDAR
VERSION:2.0
PRODID:-//Early Learning Coalition of the Big Bend - ECPv6.13.2.1//NONSGML v1.0//EN
CALSCALE:GREGORIAN
METHOD:PUBLISH
X-WR-CALNAME:Early Learning Coalition of the Big Bend
X-ORIGINAL-URL:https://elcbigbend.org
X-WR-CALDESC:Events for Early Learning Coalition of the Big Bend
REFRESH-INTERVAL;VALUE=DURATION:PT1H
X-Robots-Tag:noindex
X-PUBLISHED-TTL:PT1H
BEGIN:VTIMEZONE
TZID:America/New_York
BEGIN:DAYLIGHT
TZOFFSETFROM:-0500
TZOFFSETTO:-0400
TZNAME:EDT
DTSTART:20220313T070000
END:DAYLIGHT
BEGIN:STANDARD
TZOFFSETFROM:-0400
TZOFFSETTO:-0500
TZNAME:EST
DTSTART:20221106T060000
END:STANDARD
BEGIN:DAYLIGHT
TZOFFSETFROM:-0500
TZOFFSETTO:-0400
TZNAME:EDT
DTSTART:20230312T070000
END:DAYLIGHT
BEGIN:STANDARD
TZOFFSETFROM:-0400
TZOFFSETTO:-0500
TZNAME:EST
DTSTART:20231105T060000
END:STANDARD
BEGIN:DAYLIGHT
TZOFFSETFROM:-0500
TZOFFSETTO:-0400
TZNAME:EDT
DTSTART:20240310T070000
END:DAYLIGHT
BEGIN:STANDARD
TZOFFSETFROM:-0400
TZOFFSETTO:-0500
TZNAME:EST
DTSTART:20241103T060000
END:STANDARD
BEGIN:DAYLIGHT
TZOFFSETFROM:-0500
TZOFFSETTO:-0400
TZNAME:EDT
DTSTART:20250309T070000
END:DAYLIGHT
BEGIN:STANDARD
TZOFFSETFROM:-0400
TZOFFSETTO:-0500
TZNAME:EST
DTSTART:20251102T060000
END:STANDARD
BEGIN:DAYLIGHT
TZOFFSETFROM:-0500
TZOFFSETTO:-0400
TZNAME:EDT
DTSTART:20260308T070000
END:DAYLIGHT
BEGIN:STANDARD
TZOFFSETFROM:-0400
TZOFFSETTO:-0500
TZNAME:EST
DTSTART:20261101T060000
END:STANDARD
END:VTIMEZONE
BEGIN:VTIMEZONE
TZID:UTC
BEGIN:STANDARD
TZOFFSETFROM:+0000
TZOFFSETTO:+0000
TZNAME:UTC
DTSTART:20210101T000000
END:STANDARD
END:VTIMEZONE
BEGIN:VEVENT
DTSTART;TZID=America/New_York:20260409T110000
DTEND;TZID=America/New_York:20260409T120000
DTSTAMP:20260423T200538
CREATED:20260317T125428Z
LAST-MODIFIED:20260317T125512Z
UID:4336-1775732400-1775736000@elcbigbend.org
SUMMARY:Program\, Policy\, and Strategy Committee Meeting
DESCRIPTION:Please contact governance@elcbigbend.org to receive Zoom link information to attend this meeting.
URL:https://elcbigbend.org/event/program-policy-and-strategy-committee-meeting-8/
LOCATION:Zoom Webinar
CATEGORIES:Board of Directors
ORGANIZER;CN="Rebecca Gonzalez":MAILTO:RGonzalez@elcbigbend.org
END:VEVENT
BEGIN:VEVENT
DTSTART;TZID=America/New_York:20260326T110000
DTEND;TZID=America/New_York:20260326T120000
DTSTAMP:20260423T200538
CREATED:20260317T125310Z
LAST-MODIFIED:20260317T125549Z
UID:4334-1774522800-1774526400@elcbigbend.org
SUMMARY:Audit Committee Meeting
DESCRIPTION:Please contact governance@elcbigbend.org to receive Zoom meeting information.
URL:https://elcbigbend.org/event/audit-committee-meeting-7/
LOCATION:Zoom Webinar
CATEGORIES:Board of Directors
ORGANIZER;CN="Rebecca Gonzalez":MAILTO:RGonzalez@elcbigbend.org
END:VEVENT
BEGIN:VEVENT
DTSTART;TZID=America/New_York:20260205T113000
DTEND;TZID=America/New_York:20260205T130000
DTSTAMP:20260423T200538
CREATED:20260204T172101Z
LAST-MODIFIED:20260204T172101Z
UID:4243-1770291000-1770296400@elcbigbend.org
SUMMARY:Board of Directors Meeting
DESCRIPTION:For information on how to view this meeting via zoom\, please email Rebecca Gonzalez at governance@elcbigbend.org to receive an invitation link.
URL:https://elcbigbend.org/event/board-of-directors-meeting-9/
LOCATION:Zoom Webinar
CATEGORIES:Board of Directors
ORGANIZER;CN="Rebecca Gonzalez":MAILTO:RGonzalez@elcbigbend.org
END:VEVENT
BEGIN:VEVENT
DTSTART;TZID=America/New_York:20251106T113000
DTEND;TZID=America/New_York:20251106T130000
DTSTAMP:20260423T200538
CREATED:20251106T053403Z
LAST-MODIFIED:20251106T053403Z
UID:4125-1762428600-1762434000@elcbigbend.org
SUMMARY:ELC Board of Directors Meeting
DESCRIPTION:For information on how to view this meeting via zoom\, please email Rebecca Gonzalez at governance@elcbigbend.org to receive an invitation link.
URL:https://elcbigbend.org/event/elc-board-of-directors-meeting-5/
LOCATION:Zoom Webinar
CATEGORIES:Board of Directors
ORGANIZER;CN="Rebecca Gonzalez":MAILTO:RGonzalez@elcbigbend.org
END:VEVENT
BEGIN:VEVENT
DTSTART;TZID=America/New_York:20250814T103000
DTEND;TZID=America/New_York:20250814T143000
DTSTAMP:20260423T200538
CREATED:20250814T120844Z
LAST-MODIFIED:20250814T152505Z
UID:3913-1755167400-1755181800@elcbigbend.org
SUMMARY:ELC Board of Directors Meeting
DESCRIPTION:For information on how to view this meeting via zoom\, please email Rebecca Gonzalez at governance@elcbigbend.org to receive an invitation link. \nThe meeting is hybrid and will be held via Zoom\, and at 2639 N Monroe St\, Building C-300\, Tallahassee FL\, 32303.
URL:https://elcbigbend.org/event/elc-board-of-directors-meeting-4/
LOCATION:Zoom Webinar
CATEGORIES:Board of Directors
ORGANIZER;CN="Rebecca Gonzalez":MAILTO:RGonzalez@elcbigbend.org
END:VEVENT
BEGIN:VEVENT
DTSTART;TZID=America/New_York:20250501T113000
DTEND;TZID=America/New_York:20250501T130000
DTSTAMP:20260423T200538
CREATED:20250501T125542Z
LAST-MODIFIED:20250501T125542Z
UID:3720-1746099000-1746104400@elcbigbend.org
SUMMARY:ELC Board of Directors Meeting
DESCRIPTION:For information on how to view this meeting via zoom\, please email Rebecca Gonzalez at governance@elcbigbend.org to receive an invitation link.
URL:https://elcbigbend.org/event/elc-board-of-directors-meeting-3/
LOCATION:Zoom Webinar
CATEGORIES:Board of Directors
ORGANIZER;CN="Rebecca Gonzalez":MAILTO:RGonzalez@elcbigbend.org
END:VEVENT
BEGIN:VEVENT
DTSTART;TZID=America/New_York:20250227T113000
DTEND;TZID=America/New_York:20250227T130000
DTSTAMP:20260423T200538
CREATED:20250226T162833Z
LAST-MODIFIED:20250226T162833Z
UID:3610-1740655800-1740661200@elcbigbend.org
SUMMARY:ELC Board of Directors Meeting
DESCRIPTION:For information on how to view this meeting via zoom\, please email Rebecca Gonzalez at governance@elcbigbend.org to receive an invitation link.
URL:https://elcbigbend.org/event/elc-board-of-directors-meeting-2/
LOCATION:Zoom Webinar
CATEGORIES:Board of Directors
ORGANIZER;CN="Rebecca Gonzalez":MAILTO:RGonzalez@elcbigbend.org
END:VEVENT
BEGIN:VEVENT
DTSTART;TZID=America/New_York:20241114T113000
DTEND;TZID=America/New_York:20241114T130000
DTSTAMP:20260423T200538
CREATED:20241009T140213Z
LAST-MODIFIED:20241009T140213Z
UID:3320-1731583800-1731589200@elcbigbend.org
SUMMARY:Board of Directors Meeting
DESCRIPTION:For information on how to view this meeting via zoom\, please email Rebecca Gonzalez at governance@elcbigbend.org to receive an invitation link.
URL:https://elcbigbend.org/event/board-of-directors-meeting-7/
LOCATION:Zoom Webinar
CATEGORIES:Board of Directors
ORGANIZER;CN="Rebecca Gonzalez":MAILTO:RGonzalez@elcbigbend.org
END:VEVENT
BEGIN:VEVENT
DTSTART;TZID=America/New_York:20241025T110000
DTEND;TZID=America/New_York:20241025T120000
DTSTAMP:20260423T200538
CREATED:20241025T002547Z
LAST-MODIFIED:20241025T002547Z
UID:3357-1729854000-1729857600@elcbigbend.org
SUMMARY:Board of Directors Meeting
DESCRIPTION:For information on how to view this meeting via zoom\, please email Rebecca Gonzalez at governance@elcbigbend.org to receive an invitation link.
URL:https://elcbigbend.org/event/board-of-directors-meeting-8/
LOCATION:Zoom Webinar
CATEGORIES:Board of Directors
ORGANIZER;CN="Rebecca Gonzalez":MAILTO:RGonzalez@elcbigbend.org
END:VEVENT
BEGIN:VEVENT
DTSTART;TZID=America/New_York:20240801T113000
DTEND;TZID=America/New_York:20240801T130000
DTSTAMP:20260423T200538
CREATED:20240801T123432Z
LAST-MODIFIED:20240801T123432Z
UID:3168-1722511800-1722517200@elcbigbend.org
SUMMARY:Board of Directors Meeting
DESCRIPTION:For information on how to view this meeting via zoom\, please email Rebecca Gonzalez at governance@elcbigbend.org to receive an invitation link.
URL:https://elcbigbend.org/event/board-of-directors-meeting-6/
LOCATION:Zoom Webinar
CATEGORIES:Board of Directors
ORGANIZER;CN="Rebecca Gonzalez":MAILTO:RGonzalez@elcbigbend.org
END:VEVENT
BEGIN:VEVENT
DTSTART;TZID=America/New_York:20240502T113000
DTEND;TZID=America/New_York:20240502T130000
DTSTAMP:20260423T200538
CREATED:20240409T144955Z
LAST-MODIFIED:20240409T144955Z
UID:2817-1714649400-1714654800@elcbigbend.org
SUMMARY:Board of Directors Meeting
DESCRIPTION:For information on how to view this meeting via zoom\, please email Rebecca Gonzalez at governance@elcbigbend.org to receive an invitation link.
URL:https://elcbigbend.org/event/board-of-directors-meeting-5/
LOCATION:Zoom Webinar
CATEGORIES:Board of Directors
ORGANIZER;CN="Rebecca Gonzalez":MAILTO:RGonzalez@elcbigbend.org
END:VEVENT
BEGIN:VEVENT
DTSTART;TZID=America/New_York:20231102T113000
DTEND;TZID=America/New_York:20231102T130000
DTSTAMP:20260423T200538
CREATED:20231016T190256Z
LAST-MODIFIED:20231016T190256Z
UID:2463-1698924600-1698930000@elcbigbend.org
SUMMARY:Board of Directors Meeting
DESCRIPTION:For information on how to view this meeting via zoom\, please email Rebecca Gonzalez at governance@elcbigbend.org to receive an invitation link.
URL:https://elcbigbend.org/event/board-of-directors-meeting-4/
LOCATION:Zoom Webinar
CATEGORIES:Board of Directors
ORGANIZER;CN="Rebecca Gonzalez":MAILTO:RGonzalez@elcbigbend.org
END:VEVENT
BEGIN:VEVENT
DTSTART;TZID=America/New_York:20231005T110000
DTEND;TZID=America/New_York:20231005T120000
DTSTAMP:20260423T200538
CREATED:20231004T153937Z
LAST-MODIFIED:20231005T150706Z
UID:2427-1696503600-1696507200@elcbigbend.org
SUMMARY:*Cancelled* New Board Member Orientation
DESCRIPTION:For information on how to view this meeting via zoom\, please email Rebecca Gonzalez at governance@elcbigbend.org to receive an invitation link.
URL:https://elcbigbend.org/event/new-board-member-orientation/
LOCATION:Zoom Webinar
CATEGORIES:Board of Directors
ORGANIZER;CN="Rebecca Gonzalez":MAILTO:RGonzalez@elcbigbend.org
END:VEVENT
BEGIN:VEVENT
DTSTART;TZID=America/New_York:20230807T173000
DTEND;TZID=America/New_York:20230807T183000
DTSTAMP:20260423T200538
CREATED:20230807T203253Z
LAST-MODIFIED:20230807T203253Z
UID:2291-1691429400-1691433000@elcbigbend.org
SUMMARY:Kidpreneur Market
DESCRIPTION:Join ELC staff and board members at WFSU Public Media (1600 Red Barber Plaza) for the 2023 Kidpreneur Market. \nOver 30 kid-owned businesses will be featuring their handmade jewelry\, artwork\, slime\, and plants! Prices range from $1-10. Support our youngest business owners!
URL:https://elcbigbend.org/event/kidpreneur-market/
CATEGORIES:Board of Directors,Public Meeting
ORGANIZER;CN="Rebecca Gonzalez":MAILTO:RGonzalez@elcbigbend.org
END:VEVENT
BEGIN:VEVENT
DTSTART;TZID=America/New_York:20230803T113000
DTEND;TZID=America/New_York:20230803T130000
DTSTAMP:20260423T200538
CREATED:20230705T140021Z
LAST-MODIFIED:20230705T140021Z
UID:2236-1691062200-1691067600@elcbigbend.org
SUMMARY:Board of Director's Meeting
DESCRIPTION:
URL:https://elcbigbend.org/event/board-of-directors-meeting-3/
LOCATION:Zoom Webinar
CATEGORIES:Board of Directors
ORGANIZER;CN="Rebecca Gonzalez":MAILTO:RGonzalez@elcbigbend.org
END:VEVENT
BEGIN:VEVENT
DTSTART;TZID=America/New_York:20230801T100000
DTEND;TZID=America/New_York:20230801T120000
DTSTAMP:20260423T200538
CREATED:20230801T121353Z
LAST-MODIFIED:20230801T150727Z
UID:2283-1690884000-1690891200@elcbigbend.org
SUMMARY:Ad Hoc Committee Meeting
DESCRIPTION:For information on how to view this meeting via zoom\, please email Rebecca Gonzalez at governance@elcbigbend.org to receive an invitation link.
URL:https://elcbigbend.org/event/ad-hoc-committee-meeting-3/
LOCATION:Zoom Webinar
CATEGORIES:Ad Hoc Committee,Board of Directors,Public Meeting
ORGANIZER;CN="Rebecca Gonzalez":MAILTO:RGonzalez@elcbigbend.org
END:VEVENT
BEGIN:VEVENT
DTSTART;TZID=America/New_York:20230505T110000
DTEND;TZID=America/New_York:20230505T120000
DTSTAMP:20260423T200538
CREATED:20230505T030338Z
LAST-MODIFIED:20230505T030338Z
UID:2124-1683284400-1683288000@elcbigbend.org
SUMMARY:ELC Staff & Board Spring Event
DESCRIPTION:
URL:https://elcbigbend.org/event/elc-staff-board-spring-event/
CATEGORIES:Board of Directors
END:VEVENT
BEGIN:VEVENT
DTSTART;TZID=America/New_York:20230427T113000
DTEND;TZID=America/New_York:20230427T130000
DTSTAMP:20260423T200538
CREATED:20221004T191217Z
LAST-MODIFIED:20221004T191217Z
UID:1657-1682595000-1682600400@elcbigbend.org
SUMMARY:Board Meeting
DESCRIPTION:Please contact governance@elcbigbend.org for access to join the meeting.
URL:https://elcbigbend.org/event/board-meeting-6/
LOCATION:Zoom Webinar
CATEGORIES:Board of Directors
ORGANIZER;CN="Rebecca Gonzalez":MAILTO:RGonzalez@elcbigbend.org
END:VEVENT
BEGIN:VEVENT
DTSTART;TZID=America/New_York:20230126T113000
DTEND;TZID=America/New_York:20230126T130000
DTSTAMP:20260423T200538
CREATED:20221004T191107Z
LAST-MODIFIED:20221004T191107Z
UID:1655-1674732600-1674738000@elcbigbend.org
SUMMARY:Board Meeting
DESCRIPTION:Please contact governance@elcbigbend.org for access to join the meeting.
URL:https://elcbigbend.org/event/board-meeting-5/
LOCATION:Zoom Webinar
CATEGORIES:Board of Directors
ORGANIZER;CN="Rebecca Gonzalez":MAILTO:RGonzalez@elcbigbend.org
END:VEVENT
BEGIN:VEVENT
DTSTART;TZID=America/New_York:20221103T113000
DTEND;TZID=America/New_York:20221103T130000
DTSTAMP:20260423T200538
CREATED:20221004T190517Z
LAST-MODIFIED:20221004T190517Z
UID:1645-1667475000-1667480400@elcbigbend.org
SUMMARY:Board Meeting
DESCRIPTION:Please contact governance@elcbigbend.org for access to join the meeting.
URL:https://elcbigbend.org/event/board-meeting-4/
LOCATION:Zoom Webinar
CATEGORIES:Board of Directors,Public Meeting
ORGANIZER;CN="Rebecca Gonzalez":MAILTO:RGonzalez@elcbigbend.org
END:VEVENT
BEGIN:VEVENT
DTSTART;TZID=America/New_York:20221102T103000
DTEND;TZID=America/New_York:20221102T120000
DTSTAMP:20260423T200538
CREATED:20221101T183254Z
LAST-MODIFIED:20221101T183254Z
UID:1708-1667385000-1667390400@elcbigbend.org
SUMMARY:ELC Board Member Orientation
DESCRIPTION:
URL:https://elcbigbend.org/event/elc-board-member-orientation/
LOCATION:Zoom Webinar
CATEGORIES:Board of Directors
END:VEVENT
BEGIN:VEVENT
DTSTART;TZID=America/New_York:20220922T113000
DTEND;TZID=America/New_York:20220922T130000
DTSTAMP:20260423T200538
CREATED:20220811T010723Z
LAST-MODIFIED:20220811T010723Z
UID:1437-1663846200-1663851600@elcbigbend.org
SUMMARY:Board of Directors Meeting
DESCRIPTION:
URL:https://elcbigbend.org/event/board-of-directors-meeting-2/
LOCATION:Zoom Webinar
CATEGORIES:Board of Directors
ORGANIZER;CN="Rebecca Gonzalez":MAILTO:RGonzalez@elcbigbend.org
END:VEVENT
BEGIN:VEVENT
DTSTART;TZID=UTC:20220623T113000
DTEND;TZID=UTC:20220623T130000
DTSTAMP:20260423T200538
CREATED:20211015T050002Z
LAST-MODIFIED:20220622T211132Z
UID:461-1655983800-1655989200@elcbigbend.org
SUMMARY:Board Meeting
DESCRIPTION:
URL:https://elcbigbend.org/event/board-meeting-3/
LOCATION:Zoom Webinar
CATEGORIES:Board of Directors,Public Meeting
END:VEVENT
BEGIN:VEVENT
DTSTART;TZID=UTC:20220324T113000
DTEND;TZID=UTC:20220324T130000
DTSTAMP:20260423T200538
CREATED:20211015T045813Z
LAST-MODIFIED:20220118T004312Z
UID:457-1648121400-1648126800@elcbigbend.org
SUMMARY:Board Meeting
DESCRIPTION:
URL:https://elcbigbend.org/event/board-meeting-2/
CATEGORIES:Board of Directors,Public Meeting
END:VEVENT
BEGIN:VEVENT
DTSTART;TZID=UTC:20211216T113000
DTEND;TZID=UTC:20211216T130000
DTSTAMP:20260423T200538
CREATED:20211015T045319Z
LAST-MODIFIED:20220118T004312Z
UID:450-1639654200-1639659600@elcbigbend.org
SUMMARY:Board Meeting
DESCRIPTION:
URL:https://elcbigbend.org/event/board-meeting/
CATEGORIES:Board of Directors,Public Meeting
END:VEVENT
BEGIN:VEVENT
DTSTART;TZID=UTC:20210930T113000
DTEND;TZID=UTC:20210930T130000
DTSTAMP:20260423T200538
CREATED:20211007T180154Z
LAST-MODIFIED:20220118T004313Z
UID:348-1633001400-1633006800@elcbigbend.org
SUMMARY:Board of Directors Meeting
DESCRIPTION:Thursday\, September 30\, 2021 from 11:30 am to 1:00 pm \nThis meeting is open to the public and will be held virtually via Zoom. \nFor meeting details\, please contact governance@elcbigbend.org or call (850) 901-7177
URL:https://elcbigbend.org/event/board-of-directors-meeting/
CATEGORIES:Board of Directors,Public Meeting
END:VEVENT
BEGIN:VEVENT
DTSTART;TZID=UTC:20210929T100000
DTEND;TZID=UTC:20210929T103000
DTSTAMP:20260423T200538
CREATED:20211007T180056Z
LAST-MODIFIED:20211007T193604Z
UID:347-1632909600-1632911400@elcbigbend.org
SUMMARY:Board Member Discussion – Officer Role
DESCRIPTION:This meeting is open to the public and will be held virtually via Zoom. \nTo join Zoom meeting or for meeting details\, please contact governance@elcbigbend.org or call (850) 901-7177
URL:https://elcbigbend.org/event/board-member-discussion-officer-role/
CATEGORIES:Board of Directors,Public Meeting
END:VEVENT
END:VCALENDAR