BEGIN:VCALENDAR
VERSION:2.0
PRODID:-//Early Learning Coalition of the Big Bend - ECPv6.13.2.1//NONSGML v1.0//EN
CALSCALE:GREGORIAN
METHOD:PUBLISH
X-ORIGINAL-URL:https://elcbigbend.org
X-WR-CALDESC:Events for Early Learning Coalition of the Big Bend
REFRESH-INTERVAL;VALUE=DURATION:PT1H
X-Robots-Tag:noindex
X-PUBLISHED-TTL:PT1H
BEGIN:VTIMEZONE
TZID:America/New_York
BEGIN:DAYLIGHT
TZOFFSETFROM:-0500
TZOFFSETTO:-0400
TZNAME:EDT
DTSTART:20230312T070000
END:DAYLIGHT
BEGIN:STANDARD
TZOFFSETFROM:-0400
TZOFFSETTO:-0500
TZNAME:EST
DTSTART:20231105T060000
END:STANDARD
BEGIN:DAYLIGHT
TZOFFSETFROM:-0500
TZOFFSETTO:-0400
TZNAME:EDT
DTSTART:20240310T070000
END:DAYLIGHT
BEGIN:STANDARD
TZOFFSETFROM:-0400
TZOFFSETTO:-0500
TZNAME:EST
DTSTART:20241103T060000
END:STANDARD
END:VTIMEZONE
BEGIN:VEVENT
DTSTART;TZID=America/New_York:20241106T130000
DTEND;TZID=America/New_York:20241106T140000
DTSTAMP:20260423T214911
CREATED:20241101T132028Z
LAST-MODIFIED:20241101T132028Z
UID:3379-1730898000-1730901600@elcbigbend.org
SUMMARY:Ad Hoc Committee Meeting
DESCRIPTION:For information on how to view this meeting via zoom\, please email Rebecca Gonzalez at governance@elcbigbend.org to receive an invitation link.
URL:https://elcbigbend.org/event/ad-hoc-committee-meeting-13/
LOCATION:Zoom Webinar
CATEGORIES:Ad Hoc Committee
ORGANIZER;CN="Rebecca Gonzalez":MAILTO:RGonzalez@elcbigbend.org
END:VEVENT
BEGIN:VEVENT
DTSTART;TZID=America/New_York:20241023T130000
DTEND;TZID=America/New_York:20241023T143000
DTSTAMP:20260423T214911
CREATED:20241021T152226Z
LAST-MODIFIED:20241021T152226Z
UID:3343-1729688400-1729693800@elcbigbend.org
SUMMARY:ELC Ad Hoc Committee Meeting
DESCRIPTION:For information on how to view this meeting via zoom\, please email Rebecca Gonzalez at governance@elcbigbend.org to receive an invitation link
URL:https://elcbigbend.org/event/elc-ad-hoc-committee-meeting-2/
LOCATION:Zoom Webinar
CATEGORIES:Ad Hoc Committee
ORGANIZER;CN="Rebecca Gonzalez":MAILTO:RGonzalez@elcbigbend.org
END:VEVENT
BEGIN:VEVENT
DTSTART;TZID=America/New_York:20240228T100000
DTEND;TZID=America/New_York:20240228T110000
DTSTAMP:20260423T214911
CREATED:20240228T143117Z
LAST-MODIFIED:20240228T143117Z
UID:2740-1709114400-1709118000@elcbigbend.org
SUMMARY:Ad Hoc Committee Meeting
DESCRIPTION:For information on how to view this meeting via zoom\, please email Rebecca Gonzalez at governance@elcbigbend.org to receive an invitation link.
URL:https://elcbigbend.org/event/ad-hoc-committee-meeting-12/
LOCATION:Zoom Webinar
CATEGORIES:Ad Hoc Committee
ORGANIZER;CN="Rebecca Gonzalez":MAILTO:RGonzalez@elcbigbend.org
END:VEVENT
BEGIN:VEVENT
DTSTART;TZID=America/New_York:20240118T150000
DTEND;TZID=America/New_York:20240118T154500
DTSTAMP:20260423T214911
CREATED:20240118T163721Z
LAST-MODIFIED:20240118T163721Z
UID:2647-1705590000-1705592700@elcbigbend.org
SUMMARY:Color Me Blue Briefing
DESCRIPTION:Meeting scheduled to discuss event logistics\, run of show\, and volunteer expectations as assigned. Please contact Governance at governance@elcbigbend.org to be provided with a Zoom link.
URL:https://elcbigbend.org/event/color-me-blue-briefing-2/
LOCATION:Zoom Webinar
CATEGORIES:Ad Hoc Committee
ORGANIZER;CN="Rebecca Gonzalez":MAILTO:RGonzalez@elcbigbend.org
END:VEVENT
BEGIN:VEVENT
DTSTART;TZID=America/New_York:20240118T113000
DTEND;TZID=America/New_York:20240118T120000
DTSTAMP:20260423T214911
CREATED:20240118T163628Z
LAST-MODIFIED:20240118T163628Z
UID:2645-1705577400-1705579200@elcbigbend.org
SUMMARY:Color Me Blue Briefing
DESCRIPTION:Meeting scheduled to discuss event logistics\, run of show\, and volunteer expectations as assigned. Please contact Governance at governance@elcbigbend.org to be provided with a Zoom link.
URL:https://elcbigbend.org/event/color-me-blue-briefing/
LOCATION:Zoom Webinar
CATEGORIES:Ad Hoc Committee
ORGANIZER;CN="Rebecca Gonzalez":MAILTO:RGonzalez@elcbigbend.org
END:VEVENT
BEGIN:VEVENT
DTSTART;TZID=America/New_York:20240117T100000
DTEND;TZID=America/New_York:20240117T110000
DTSTAMP:20260423T214911
CREATED:20240116T165450Z
LAST-MODIFIED:20240116T165450Z
UID:2640-1705485600-1705489200@elcbigbend.org
SUMMARY:Ad Hoc Committee Meeting
DESCRIPTION:For information on how to view this meeting via zoom\, please email Rebecca Gonzalez at governance@elcbigbend.org to receive an invitation link.
URL:https://elcbigbend.org/event/ad-hoc-committee-meeting-11/
LOCATION:Zoom Webinar
CATEGORIES:Ad Hoc Committee
ORGANIZER;CN="Rebecca Gonzalez":MAILTO:RGonzalez@elcbigbend.org
END:VEVENT
BEGIN:VEVENT
DTSTART;TZID=America/New_York:20240105T110000
DTEND;TZID=America/New_York:20240105T120000
DTSTAMP:20260423T214911
CREATED:20240104T164119Z
LAST-MODIFIED:20240104T164119Z
UID:2617-1704452400-1704456000@elcbigbend.org
SUMMARY:Ad Hoc Committee Meeting
DESCRIPTION:For information on how to view this meeting via zoom\, please email Rebecca Gonzalez at governance@elcbigbend.org to receive an invitation link.
URL:https://elcbigbend.org/event/ad-hoc-committee-meeting-10/
LOCATION:Zoom Webinar
CATEGORIES:Ad Hoc Committee
ORGANIZER;CN="Rebecca Gonzalez":MAILTO:RGonzalez@elcbigbend.org
END:VEVENT
BEGIN:VEVENT
DTSTART;TZID=America/New_York:20231213T133000
DTEND;TZID=America/New_York:20231213T143000
DTSTAMP:20260423T214911
CREATED:20231212T125205Z
LAST-MODIFIED:20231213T125226Z
UID:2593-1702474200-1702477800@elcbigbend.org
SUMMARY:Ad Hoc Committee Meeting
DESCRIPTION:For information on how to view this meeting via zoom\, please email Rebecca Gonzalez at governance@elcbigbend.org to receive an invitation link.
URL:https://elcbigbend.org/event/ad-hoc-committee-meeting-9/
LOCATION:Zoom Webinar
CATEGORIES:Ad Hoc Committee
ORGANIZER;CN="Rebecca Gonzalez":MAILTO:RGonzalez@elcbigbend.org
END:VEVENT
BEGIN:VEVENT
DTSTART;TZID=America/New_York:20231108T100000
DTEND;TZID=America/New_York:20231108T110000
DTSTAMP:20260423T214911
CREATED:20231107T183059Z
LAST-MODIFIED:20231107T183059Z
UID:2506-1699437600-1699441200@elcbigbend.org
SUMMARY:Ad Hoc Committee Meeting
DESCRIPTION:For information on how to view this meeting via zoom\, please email Rebecca Gonzalez at governance@elcbigbend.org to receive an invitation link.
URL:https://elcbigbend.org/event/ad-hoc-committee-meeting-8/
LOCATION:Zoom Webinar
CATEGORIES:Ad Hoc Committee
ORGANIZER;CN="Rebecca Gonzalez":MAILTO:RGonzalez@elcbigbend.org
END:VEVENT
BEGIN:VEVENT
DTSTART;TZID=America/New_York:20231026T100000
DTEND;TZID=America/New_York:20231026T110000
DTSTAMP:20260423T214911
CREATED:20231025T141915Z
LAST-MODIFIED:20231026T142516Z
UID:2475-1698314400-1698318000@elcbigbend.org
SUMMARY:Ad Hoc Committee Meeting
DESCRIPTION:For information on how to view this meeting via zoom\, please email Rebecca Gonzalez at governance@elcbigbend.org to receive an invitation link.
URL:https://elcbigbend.org/event/ad-hoc-committee-meeting-7/
LOCATION:Zoom Webinar
CATEGORIES:Ad Hoc Committee
ORGANIZER;CN="Rebecca Gonzalez":MAILTO:RGonzalez@elcbigbend.org
END:VEVENT
BEGIN:VEVENT
DTSTART;TZID=America/New_York:20231012T100000
DTEND;TZID=America/New_York:20231012T110000
DTSTAMP:20260423T214911
CREATED:20231011T122230Z
LAST-MODIFIED:20231012T122249Z
UID:2458-1697104800-1697108400@elcbigbend.org
SUMMARY:Ad Hoc Committee Meeting
DESCRIPTION:For information on how to view this meeting via zoom\, please email Rebecca Gonzalez at governance@elcbigbend.org to receive an invitation link.
URL:https://elcbigbend.org/event/ad-hoc-committee-meeting-6/
LOCATION:Zoom Webinar
CATEGORIES:Ad Hoc Committee
ORGANIZER;CN="Rebecca Gonzalez":MAILTO:RGonzalez@elcbigbend.org
END:VEVENT
BEGIN:VEVENT
DTSTART;TZID=America/New_York:20230919T100000
DTEND;TZID=America/New_York:20230919T120000
DTSTAMP:20260423T214911
CREATED:20230912T135818Z
LAST-MODIFIED:20230912T135818Z
UID:2383-1695117600-1695124800@elcbigbend.org
SUMMARY:Ad Hoc Committee Meeting
DESCRIPTION:For information on how to view this meeting via zoom\, please email Rebecca Gonzalez at governance@elcbigbend.org to receive an invitation link.
URL:https://elcbigbend.org/event/ad-hoc-committee-meeting-5/
LOCATION:Zoom Webinar
CATEGORIES:Ad Hoc Committee
ORGANIZER;CN="Rebecca Gonzalez":MAILTO:RGonzalez@elcbigbend.org
END:VEVENT
BEGIN:VEVENT
DTSTART;TZID=America/New_York:20230829T100000
DTEND;TZID=America/New_York:20230829T120000
DTSTAMP:20260423T214911
CREATED:20230828T183107Z
LAST-MODIFIED:20230828T183142Z
UID:2349-1693303200-1693310400@elcbigbend.org
SUMMARY:Ad Hoc Committee Meeting
DESCRIPTION:For information on how to view this meeting via zoom\, please email Rebecca Gonzalez at governance@elcbigbend.org to receive an invitation link.
URL:https://elcbigbend.org/event/ad-hoc-committee-meeting-4/
LOCATION:Zoom Webinar
CATEGORIES:Ad Hoc Committee
ORGANIZER;CN="Rebecca Gonzalez":MAILTO:RGonzalez@elcbigbend.org
END:VEVENT
BEGIN:VEVENT
DTSTART;TZID=America/New_York:20230801T100000
DTEND;TZID=America/New_York:20230801T120000
DTSTAMP:20260423T214911
CREATED:20230801T121353Z
LAST-MODIFIED:20230801T150727Z
UID:2283-1690884000-1690891200@elcbigbend.org
SUMMARY:Ad Hoc Committee Meeting
DESCRIPTION:For information on how to view this meeting via zoom\, please email Rebecca Gonzalez at governance@elcbigbend.org to receive an invitation link.
URL:https://elcbigbend.org/event/ad-hoc-committee-meeting-3/
LOCATION:Zoom Webinar
CATEGORIES:Ad Hoc Committee,Board of Directors,Public Meeting
ORGANIZER;CN="Rebecca Gonzalez":MAILTO:RGonzalez@elcbigbend.org
END:VEVENT
BEGIN:VEVENT
DTSTART;TZID=America/New_York:20230713T100000
DTEND;TZID=America/New_York:20230713T110000
DTSTAMP:20260423T214911
CREATED:20230705T135847Z
LAST-MODIFIED:20230705T135847Z
UID:2232-1689242400-1689246000@elcbigbend.org
SUMMARY:Ad Hoc Committee Meeting
DESCRIPTION:
URL:https://elcbigbend.org/event/ad-hoc-committee-meeting-2/
LOCATION:Zoom Webinar
CATEGORIES:Ad Hoc Committee
ORGANIZER;CN="Rebecca Gonzalez":MAILTO:RGonzalez@elcbigbend.org
END:VEVENT
BEGIN:VEVENT
DTSTART;TZID=America/New_York:20230413T140000
DTEND;TZID=America/New_York:20230413T150000
DTSTAMP:20260423T214911
CREATED:20230413T021235Z
LAST-MODIFIED:20230413T021244Z
UID:2075-1681394400-1681398000@elcbigbend.org
SUMMARY:Ad Hoc Committee Meeting
DESCRIPTION:Please contact governance[at]elcbigbend.org for access to join the meeting.
URL:https://elcbigbend.org/event/ad-hoc-committee-meeting/
LOCATION:Zoom Webinar
CATEGORIES:Ad Hoc Committee
ORGANIZER;CN="Rebecca Gonzalez":MAILTO:RGonzalez@elcbigbend.org
END:VEVENT
BEGIN:VEVENT
DTSTART;TZID=America/New_York:20230112T100000
DTEND;TZID=America/New_York:20230112T110000
DTSTAMP:20260423T214911
CREATED:20221004T190959Z
LAST-MODIFIED:20230112T144125Z
UID:1651-1673517600-1673521200@elcbigbend.org
SUMMARY:Ad Hoc Committee Meeting
DESCRIPTION:Please contact governance@elcbigbend.org for access to join the meeting.
URL:https://elcbigbend.org/event/audit-committee-meeting-3/
LOCATION:Zoom Webinar
CATEGORIES:Ad Hoc Committee
ORGANIZER;CN="Rebecca Gonzalez":MAILTO:RGonzalez@elcbigbend.org
END:VEVENT
END:VCALENDAR