BEGIN:VCALENDAR
VERSION:2.0
PRODID:-//Early Learning Coalition of the Big Bend - ECPv6.13.2.1//NONSGML v1.0//EN
CALSCALE:GREGORIAN
METHOD:PUBLISH
X-WR-CALNAME:Early Learning Coalition of the Big Bend
X-ORIGINAL-URL:https://elcbigbend.org
X-WR-CALDESC:Events for Early Learning Coalition of the Big Bend
REFRESH-INTERVAL;VALUE=DURATION:PT1H
X-Robots-Tag:noindex
X-PUBLISHED-TTL:PT1H
BEGIN:VTIMEZONE
TZID:America/New_York
BEGIN:DAYLIGHT
TZOFFSETFROM:-0500
TZOFFSETTO:-0400
TZNAME:EDT
DTSTART:20260308T070000
END:DAYLIGHT
BEGIN:STANDARD
TZOFFSETFROM:-0400
TZOFFSETTO:-0500
TZNAME:EST
DTSTART:20261101T060000
END:STANDARD
END:VTIMEZONE
BEGIN:VEVENT
DTSTART;TZID=America/New_York:20260115T110000
DTEND;TZID=America/New_York:20260115T120000
DTSTAMP:20260423T162919
CREATED:20260115T144556Z
LAST-MODIFIED:20260115T144703Z
UID:4211-1768474800-1768478400@elcbigbend.org
SUMMARY:Finance Committee Meeting
DESCRIPTION:For information on how to view this meeting via zoom\, please email Rebecca Gonzalez at governance@elcbigbend.org to receive an invitation link.
URL:https://elcbigbend.org/event/elc-finance-committee-meeting-6/
LOCATION:Zoom Webinar
CATEGORIES:Finance Committee
ORGANIZER;CN="Rebecca Gonzalez":MAILTO:RGonzalez@elcbigbend.org
END:VEVENT
BEGIN:VEVENT
DTSTART;TZID=America/New_York:20260115T143000
DTEND;TZID=America/New_York:20260115T153000
DTSTAMP:20260423T162919
CREATED:20260115T144640Z
LAST-MODIFIED:20260115T144640Z
UID:4213-1768487400-1768491000@elcbigbend.org
SUMMARY:Advocacy and Development Committee Meeting
DESCRIPTION:For information on how to view this meeting via zoom\, please email Rebecca Gonzalez at governance@elcbigbend.org to receive an invitation link.
URL:https://elcbigbend.org/event/advocacy-and-development-committee-meeting-5/
LOCATION:Zoom Webinar
CATEGORIES:Ad Hoc Committee
ORGANIZER;CN="Rebecca Gonzalez":MAILTO:RGonzalez@elcbigbend.org
END:VEVENT
END:VCALENDAR