BEGIN:VCALENDAR
VERSION:2.0
PRODID:-//Early Learning Coalition of the Big Bend - ECPv6.13.2.1//NONSGML v1.0//EN
CALSCALE:GREGORIAN
METHOD:PUBLISH
X-ORIGINAL-URL:https://elcbigbend.org
X-WR-CALDESC:Events for Early Learning Coalition of the Big Bend
REFRESH-INTERVAL;VALUE=DURATION:PT1H
X-Robots-Tag:noindex
X-PUBLISHED-TTL:PT1H
BEGIN:VTIMEZONE
TZID:America/New_York
BEGIN:DAYLIGHT
TZOFFSETFROM:-0500
TZOFFSETTO:-0400
TZNAME:EDT
DTSTART:20250309T070000
END:DAYLIGHT
BEGIN:STANDARD
TZOFFSETFROM:-0400
TZOFFSETTO:-0500
TZNAME:EST
DTSTART:20251102T060000
END:STANDARD
END:VTIMEZONE
BEGIN:VEVENT
DTSTART;TZID=America/New_York:20251029T180000
DTEND;TZID=America/New_York:20251029T200000
DTSTAMP:20260423T214440
CREATED:20251020T215313Z
LAST-MODIFIED:20251029T215645Z
UID:4116-1761760800-1761768000@elcbigbend.org
SUMMARY:Blue Table: Gadsden County
DESCRIPTION:Gadsden County ELC contracted providers are welcome to attend this informativemeeting with ELC staff. \nTo learn more on how to register and for more information\, please email governance@elcbigbend.org
URL:https://elcbigbend.org/event/blue-table-gadsden-county/
END:VEVENT
END:VCALENDAR