BEGIN:VCALENDAR
VERSION:2.0
PRODID:-//Early Learning Coalition of the Big Bend - ECPv6.13.2.1//NONSGML v1.0//EN
CALSCALE:GREGORIAN
METHOD:PUBLISH
X-WR-CALNAME:Early Learning Coalition of the Big Bend
X-ORIGINAL-URL:https://elcbigbend.org/es
X-WR-CALDESC:Eventos para Early Learning Coalition of the Big Bend
REFRESH-INTERVAL;VALUE=DURATION:PT1H
X-Robots-Tag:noindex
X-PUBLISHED-TTL:PT1H
BEGIN:VTIMEZONE
TZID:America/New_York
BEGIN:DAYLIGHT
TZOFFSETFROM:-0500
TZOFFSETTO:-0400
TZNAME:EDT
DTSTART:20260308T070000
END:DAYLIGHT
BEGIN:STANDARD
TZOFFSETFROM:-0400
TZOFFSETTO:-0500
TZNAME:EST
DTSTART:20261101T060000
END:STANDARD
END:VTIMEZONE
BEGIN:VEVENT
DTSTART;TZID=America/New_York:20260326T090000
DTEND;TZID=America/New_York:20260326T100000
DTSTAMP:20260423T145218
CREATED:20260323T140557Z
LAST-MODIFIED:20260323T140646Z
UID:4351-1774515600-1774519200@elcbigbend.org
SUMMARY:Executive Committee Monthly Meeting
DESCRIPTION:For information on how to view this meeting via zoom\, please email Rebecca Gonzalez at governance@elcbigbend.org to receive an invitation link.
URL:https://elcbigbend.org/es/event/elc-executive-committee-monthly/
LOCATION:Zoom Webinar
CATEGORIES:Executive Committee
ORGANIZER;CN="Rebecca Gonzalez":MAILTO:RGonzalez@elcbigbend.org
END:VEVENT
BEGIN:VEVENT
DTSTART;TZID=America/New_York:20260326T110000
DTEND;TZID=America/New_York:20260326T120000
DTSTAMP:20260423T145218
CREATED:20260317T125310Z
LAST-MODIFIED:20260317T125549Z
UID:4334-1774522800-1774526400@elcbigbend.org
SUMMARY:Audit Committee Meeting
DESCRIPTION:Please contact governance@elcbigbend.org to receive Zoom meeting information.
URL:https://elcbigbend.org/es/event/audit-committee-meeting-7/
LOCATION:Zoom Webinar
CATEGORIES:Board of Directors
ORGANIZER;CN="Rebecca Gonzalez":MAILTO:RGonzalez@elcbigbend.org
END:VEVENT
END:VCALENDAR